Workbook
Name APP: 'HD pompen'!$D$30:$D$43
Name Danfoss: 'HD pompen'!$A$4:$A$6
Name EV: 'HD pompen'!$D$58:$D$59
Name Hawk: 'HD pompen'!$A$60:$A$66
Name HFR: 'HD pompen'!$D$85:$D$90
Name KE: 'HD pompen'!$D$52:$D$57
Name KF: 'HD pompen'!$D$47:$D$51
Name MXT: 'HD pompen'!$D$91
Name NHDP: 'HD pompen'!$D$60:$D$64
Name NLT: 'HD pompen'!$D$71
Name NMT: 'HD pompen'!$D$65:$D$70
Name PAH: 'HD pompen'!$D$18:$D$29
Name PAHT: 'HD pompen'!$D$4:$D$17
Name Pratissoli: 'HD pompen'!$A$47:$A$49
Name XLT: 'HD pompen'!$D$72:$D$82
Name XXT: 'HD pompen'!$D$83:$D$84

Sheet Onderdelen HD pompen
E1: {=_xlfn.IFS($F$1=Hulpblad!$A$2,"Language: ",$F$1=Hulpblad!$A$3,"Taal: ")} -> Taal: | F1: EN | G1: {=_xlfn.IFS(F1=Hulpblad!A2,Hulpblad!C2,F1=Hulpblad!A3,Hulpblad!C3)} -> #VALUE!
A2: Danfoss
A3: Pratissoli | E3: =_xlfn.IFNA(VLOOKUP(Hulpblad!$C$120,Tekeningen!$A$2:$C$20,3,FALSE),"")
A4: Hawk
F6: {=_xlfn.IFS($F$1=Hulpblad!$A$2,"Artikelnummer pomp of pomp compleet",$F$1=Hulpblad!$A$3,"Part number pump or pump complete")} -> Part number pump or pump complete
B9: {=_xlfn.IFS($F$1=Hulpblad!$A$2,Hulpblad!$I$2&Hulpblad!B15,$F$1=Hulpblad!$A$3,Hulpblad!I3&Hulpblad!B15)} -> Brand : | C9: {=_xlfn.IFS($F$1=Hulpblad!$A$2,Hulpblad!$J$2&Hulpblad!$C$15,$F$1=Hulpblad!$A$3,Hulpblad!$J$3&Hulpblad!$C$15)} -> Series : | D9: {=_xlfn.IFS($F$1=Hulpblad!$A$2,Hulpblad!$K$2&Hulpblad!$D$15,$F$1=Hulpblad!$A$3,Hulpblad!$K$3&Hulpblad!$D$15)} -> Type :
B11: {=_xlfn.IFS($F$1=Hulpblad!$A$2,"Pompdeel compleet",$F$1=Hulpblad!$A$3,"Pump without motor complete")} -> Pump without motor complete | G11: =_xlfn.XLOOKUP($F$10,'HD pompen'!E:E,'HD pompen'!F:F,"Vraag om artikel toe te voegen") -> 0
B12: {=_xlfn.IFS($F$1=Hulpblad!$A$2,"Artikelnummer",$F$1=Hulpblad!$A$3,"Part number")} -> Part number | C12: {=_xlfn.IFS($F$1=Hulpblad!$A$2,"Omschrijving",$F$1=Hulpblad!$A$3,"Description")} -> Description
B13: =_xlfn.XLOOKUP(D10,'HD pompen'!D:D,'HD pompen'!E:E) -> 0 | C13: =_xlfn.IFNA(_xlfn.XLOOKUP(B13,'HD pompen'!E:E,'HD pompen'!F:F),"")
B15: {=_xlfn.IFS($F$1=Hulpblad!$A$2,"Onderdelen",$F$1=Hulpblad!$A$3,"Parts")} -> Parts
B16: {=_xlfn.IFS($F$1=Hulpblad!$A$2,"Onderdeel",$F$1=Hulpblad!$A$3,"Part")} -> Part | C16: {=_xlfn.IFS($F$1=Hulpblad!$A$2,"Tekening nr.",$F$1=Hulpblad!$A$3,"Drawing nr.")} -> Drawing nr. | D16: {=_xlfn.IFS($F$1=Hulpblad!$A$2,"Artikelnummer",$F$1=Hulpblad!$A$3,"Part number")} -> Part number | E16: {=_xlfn.IFS($F$1=Hulpblad!$A$2,"Omschrijving",$F$1=Hulpblad!$A$3,"Description")} -> Description
B17: {=_xlfn.IFNA(VLOOKUP($B$10,Hulpblad!$A$9:$Y$11,_xlfn.IFS($F$1=Hulpblad!$A$2,2,$F$1=Hulpblad!$A$3,3),FALSE),"?")} -> ? | C17: I | D17: =_xlfn.XLOOKUP($D$10,'HD pompen'!D:D,'HD pompen'!J:J) -> 0 | E17: {=_xlfn.IFNA(VLOOKUP(D17,Onderdelen!B$1:D$1048565,_xlfn.IFS($F$1=Hulpblad!$A$2,2,$F$1=Hulpblad!$A$3,3),FALSE),"")}
B18: {=_xlfn.IFNA(VLOOKUP($B$10,Hulpblad!$A$9:$Y$11,_xlfn.IFS($F$1=Hulpblad!$A$2,5,$F$1=Hulpblad!$A$3,6),FALSE),"?")} -> ? | C18: II | D18: =_xlfn.XLOOKUP($D$10,'HD pompen'!D:D,'HD pompen'!L:L) -> 0 | E18: {=_xlfn.IFNA(VLOOKUP(D18,Onderdelen!B$1:D$1048565,_xlfn.IFS($F$1=Hulpblad!$A$2,2,$F$1=Hulpblad!$A$3,3),FALSE),"")}
B19: {=_xlfn.IFNA(VLOOKUP($B$10,Hulpblad!$A$9:$Y$11,_xlfn.IFS($F$1=Hulpblad!$A$2,8,$F$1=Hulpblad!$A$3,9),FALSE),"?")} -> ? | C19: III | D19: =_xlfn.XLOOKUP($D$10,'HD pompen'!D:D,'HD pompen'!N:N) -> 0 | E19: {=_xlfn.IFNA(VLOOKUP(D19,Onderdelen!B$1:D$1048565,_xlfn.IFS($F$1=Hulpblad!$A$2,2,$F$1=Hulpblad!$A$3,3),FALSE),"")}
B20: {=_xlfn.IFNA(VLOOKUP($B$10,Hulpblad!$A$9:$Y$11,_xlfn.IFS($F$1=Hulpblad!$A$2,11,$F$1=Hulpblad!$A$3,12),FALSE),"?")} -> ? | C20: IV | D20: =_xlfn.XLOOKUP($D$10,'HD pompen'!D:D,'HD pompen'!P:P) -> 0 | E20: {=_xlfn.IFNA(VLOOKUP(D20,Onderdelen!B$1:D$1048565,_xlfn.IFS($F$1=Hulpblad!$A$2,2,$F$1=Hulpblad!$A$3,3),FALSE),"")}
B21: {=_xlfn.IFNA(VLOOKUP($B$10,Hulpblad!$A$9:$Y$11,_xlfn.IFS($F$1=Hulpblad!$A$2,14,$F$1=Hulpblad!$A$3,15),FALSE),"?")} -> ? | C21: V | D21: =_xlfn.XLOOKUP($D$10,'HD pompen'!D:D,'HD pompen'!R:R) -> 0 | E21: {=_xlfn.IFNA(VLOOKUP(D21,Onderdelen!B$1:D$1048565,_xlfn.IFS($F$1=Hulpblad!$A$2,2,$F$1=Hulpblad!$A$3,3),FALSE),"")}
B22: {=_xlfn.IFNA(VLOOKUP($B$10,Hulpblad!$A$9:$Y$11,_xlfn.IFS($F$1=Hulpblad!$A$2,17,$F$1=Hulpblad!$A$3,18),FALSE),"?")} -> ? | C22: VI | D22: =_xlfn.XLOOKUP($D$10,'HD pompen'!D:D,'HD pompen'!T:T) -> 0 | E22: {=_xlfn.IFNA(VLOOKUP(D22,Onderdelen!B$1:D$1048565,_xlfn.IFS($F$1=Hulpblad!$A$2,2,$F$1=Hulpblad!$A$3,3),FALSE),"")}
B23: {=_xlfn.IFNA(VLOOKUP($B$10,Hulpblad!$A$9:$Y$11,_xlfn.IFS($F$1=Hulpblad!$A$2,20,$F$1=Hulpblad!$A$3,21),FALSE),"?")} -> ? | C23: VII | D23: =_xlfn.XLOOKUP($D$10,'HD pompen'!D:D,'HD pompen'!V:V) -> 0 | E23: {=_xlfn.IFNA(VLOOKUP(D23,Onderdelen!B$1:D$1048565,_xlfn.IFS($F$1=Hulpblad!$A$2,2,$F$1=Hulpblad!$A$3,3),FALSE),"")}
B24: {=_xlfn.IFNA(VLOOKUP($B$10,Hulpblad!$A$9:$Y$11,_xlfn.IFS($F$1=Hulpblad!$A$2,23,$F$1=Hulpblad!$A$3,24),FALSE),"?")} -> ? | D24: =_xlfn.XLOOKUP($D$10,'HD pompen'!D:D,'HD pompen'!X:X) -> 0 | E24: {=_xlfn.IFNA(VLOOKUP(D24,Onderdelen!B$1:D$1048565,_xlfn.IFS($F$1=Hulpblad!$A$2,2,$F$1=Hulpblad!$A$3,3),FALSE),"")}
B26: {=_xlfn.IFS($F$1=Hulpblad!$A$2,"Opmerking",$F$1=Hulpblad!$A$3,"Remark")} -> Remark
B27: {=_xlfn.IFS($F$1=Hulpblad!$A$2,"Voor vragen neem contact op met: ",$F$1=Hulpblad!$A$3,"For questions please contact: ")} -> For questions please contact:
B28: sales@vanderendegroup.com
B29: =_xlfn.IFNA(VLOOKUP(Hulpblad!$C$120,Tekeningen!$A$2:$B$20,2,FALSE),"")

Sheet Tekeningen
A2: DA1 | B2: #VALUE! | C2: #VALUE!
A3: DA2 | B3: #VALUE! | C3: #VALUE!
A4: DA3 | B4: #VALUE! | C4: #VALUE!
A5: DA4 | B5: #VALUE! | C5: #VALUE!
A6: DP1 | B6: #VALUE! | C6: #VALUE!
A7: DP2 | B7: #VALUE! | C7: #VALUE!
A8: DP3 | B8: #VALUE! | C8: #VALUE!
A9: DP4 | B9: #VALUE! | C9: #VALUE!
A10: DP5 | B10: #VALUE! | C10: #VALUE!
A11: DP6 | B11: #VALUE! | C11: #VALUE!
A12: PR1 | B12: #VALUE! | C12: #VALUE!
A13: PR2 | B13: #VALUE! | C13: #VALUE!
... A20: HA6 | B20: #VALUE! | C20: #VALUE!

Sheet Hulpblad
B1: sales@vanderendegroup.com
A2: NL | B2: #VALUE! | C2: {=_FV(B2,"Image")} -> #VALUE! | D2: {=_FV(B2,"Abbreviation")} -> NL | I2: Merk : | J2: Serie : | K2: Type :
A3: EN | B3: #VALUE! | C3: {=_FV(B3,"Image")} -> #VALUE! | D3: {=_FV(B3,"Abbreviation")} -> GB | I3: Brand : | J3: Series : | K3: Type :
A4: FR | B4: #VALUE! | C4: {=_FV(B4,"Image")} -> #VALUE! | D4: {=_FV(B4,"Abbreviation")} -> FR | I4: =_xlfn.TRANSLATE(I3,$A$3,$A$4) -> Marque : | J4: =_xlfn.TRANSLATE(J3,$A$3,$A$4) -> Série : | K4: =_xlfn.TRANSLATE(K3,$A$3,$A$4) -> Type :
A5: DE | B5: #VALUE! | C5: {=_FV(B5,"Image")} -> #VALUE! | D5: {=_FV(B5,"Abbreviation")} -> DE | I5: =_xlfn.TRANSLATE(I3,$A$3,$D$5) -> Marke: | J5: =_xlfn.TRANSLATE(J3,$A$3,$D$5) -> Serien: | K5: =_xlfn.TRANSLATE(K3,$A$3,$D$5) -> Typ:
A8: 1 | B8: 2 | C8: 3 | D8: 4 | E8: 5 | F8: 6 | G8: 7 | H8: 8 | I8: 9 | J8: 10 | K8: 11 | L8: 12 | M8: 13 | N8: 14 | O8: 15 | P8: 16 | Q8: 17 | R8: 18 | S8: 19 | T8: 20 | U8: 21 | V8: 22 | W8: 23 | X8: 24 | Y8: 25
A9: Danfoss | B9: Seal | C9: Seal | E9: Cylinder barrel | F9: Cylinder barrel | H9: Klepplaat | I9: Valve plate | K9: Zuiger | L9: Piston | N9: Tuimelschijf | O9: Swash Plate | Q9: Retainer | R9: Retainer | T9: Spoelklep | U9: Flushing valve | W9: Gereedschap | X9: Tool set
A10: Pratissoli | B10: Compleet afdichting | C10: Sealkit complete | E10: Plunger afdichting | F10: Plunger seals | H10: Zuigkleppen | I10: Inlet valves | K10: Perskleppen | L10: Outlet valves
A11: Hawk | B11: Pompkop compleet | C11: Manifold | E11: Afdichting compleet | F11: Sealkit complete | H11: Zuigerafdichtingen | I11: Plunger seals | K11: Kleppen compleet | L11: Valves complete | N11: Plunjer (1) | O11: Plunger (1) | Q11: Olie afdichting | R11: Oil seals
B14: Terugzoeken pomp type
B15: =_xlfn.XLOOKUP('Onderdelen HD pompen'!$F$10,'HD pompen'!E4:E223,'HD pompen'!B4:B223," ",0) | C15: =_xlfn.XLOOKUP('Onderdelen HD pompen'!$F$10,'HD pompen'!$E4:$E223,'HD pompen'!C4:C223," ") | D15: =_xlfn.XLOOKUP('Onderdelen HD pompen'!$F$10,'HD pompen'!$E4:$E223,'HD pompen'!D4:D223," ")
B18: Pratissoli
B28: Hawk
C30: PAHT 2 | D30: DP1
C31: PAHT 3.2 | D31: DP1
C32: PAHT 4 | D32: DP1
C33: PAHT 6.3 | D33: DP1
C34: PAHT 10 | D34: DP2
C35: PAHT 12.5 | D35: DP2
C36: PAHT 20 | D36: DP5
C37: PAHT 25 | D37: DP5
C38: PAHT 32 | D38: DP5
C39: PAHT 50 | D39: DP6
C40: PAHT 63 | D40: DP6
C41: PAHT 70 | D41: DP6
... C69: APP 10.2 | D69: DA4
C70: APP13/1200
C71: APP13/1500
C72: APP19/1500
C73: KF28 | D73: PR1
C74: KF30 | D74: PR1
C75: KF32 | D75: PR1
C76: KF36 | D76: PR1
C77: KF40 | D77: PR1
C78: KE20 | D78: PR2
C79: KE22 | D79: PR2
C80: KE24 | D80: PR2
C81: KE28H | D81: PR2
C82: KE30H | D82: PR2
C83: KE36H | D83: PR2
...

Sheet HD pompen
H1: Hawk | I1: Manifold | K1: Complete afdichting | M1: Plunger seals | O1: Kleppen compleet | Q1: Plunger (1) | S1: Olie afdichting
H2: Pratissoli | I2: Compleet afdichting | K2: Plunger afdichting | M2: Zuigkleppen | O2: Perskleppen | Y2: Compleet afdichting | AA2: Plunger afdichting | AC2: Zuigkleppen | AE2: Perskleppen | AG2: Manifold | AI2: Complete afdichting | AK2: Plunger seals | AM2: Kleppen compleet | AO2: Plunger (1) | AQ2: Olie afdichting
A3: Serie | D3: model | E3: Artikelen | F3: Omschrijving | H3: Danfoss | I3: Seal | K3: Cylinder barrel | M3: Valve plate | O3: Piston | Q3: Swash Plate | S3: Retainer | U3: Flushing valve | W3: Tool set
A4: PAH | B4: Danfoss | C4: PAHT | D4: PAHT 2 | E4: 53007200 | F4: Danfoss HD pomp PAHT 2 IEC200 | H4: 180B0031 | I4: 180B4100 | J4: 53908000 | K4: 180B4104 | L4: 53909200 | M4: 180B4101 | N4: 53908050 | O4: 180B4102 | P4: 53909100 | Q4: 180B4301 | R4: 53909340 | W4: 180Z0235 | X4: 53908300
A5: PAHT | B5: Danfoss | C5: PAHT | D5: PAHT 3.2 | E5: 53007210 | F5: Danfoss HD pomp PAHT 3,2 IEC200 | H5: 180B0077 | I5: 180B4100 | J5: 53908000 | K5: 180B4104 | L5: 53909200 | M5: 180B4101 | N5: 53908050 | O5: 180B4103 | P5: 53909110 | Q5: 180B4302 | R5: 53909350 | W5: 180Z0235 | X5: 53908300
A6: APP | B6: Danfoss | C6: PAHT | D6: PAHT 4 | E6: 53007220 | F6: Danfoss HD pomp PAHT 4 IEC200 | H6: 180B0030 | I6: 180B4100 | J6: 53908000 | K6: 180B4104 | L6: 53909200 | M6: 180B4101 | N6: 53908050 | O6: 180B4103 | P6: 53909110 | Q6: 180B4303 | R6: 53909360 | W6: 180Z0235 | X6: 53908300
B7: Danfoss | C7: PAHT | D7: PAHT 6.3 | E7: 53007230 | F7: Danfoss HD pomp PAHT 6,3 IEC200 | H7: 180B0029 | I7: 180B4100 | J7: 53908000 | K7: 180B4104 | L7: 53909200 | M7: 180B4101 | N7: 53908050 | O7: 180B4103 | P7: 53909110 | Q7: 180B4304 | R7: 53909370 | W7: 180Z0235 | X7: 53908300
B8: Danfoss | C8: PAHT | D8: PAHT 10 | E8: 53007240 | F8: Danfoss HD pomp PAHT10 IEC200 1000/ 8,0/140 - 2400/21,6/140 | H8: 180B0032 | I8: 180B4105 | J8: 53909010 | K8: 180B4107 | L8: 53909210 | M8: 180B4108 | N8: 53908060 | O8: 180B4106 | P8: 53909120 | Q8: 180B4305 | R8: 53909380 | W8: 180Z0235 | X8: 53908300
B9: Danfoss | C9: PAHT | D9: PAHT 12.5 | E9: 53007250 | F9: Danfoss HD pomp PAHT12,5IEC200 1000/10,5/140 - 2400/27,6/140 | H9: 180B0033 | I9: 180B4105 | J9: 53909010 | K9: 180B4107 | L9: 53909210 | M9: 180B4108 | N9: 53908060 | O9: 180B4106 | P9: 53909120 | Q9: 180B4306 | R9: 53909390 | W9: 180Z0235 | X9: 53908300
B10: Danfoss | C10: PAHT | D10: PAHT 20 | E10: 53007300 | F10: Danfoss HD pomp PAHT20 IEC200 2400/27,0/100 | H10: 180B0019 | I10: 180B4055 | J10: 53909020 | K10: 180B4054 | L10: 53909220 | M10: 180B4052 | N10: 53909070 | O10: 180B4053 | P10: 53909130 | Q10: 180B4251 | R10: 53909400 | W10: 180Z0236 | X10: 53908310
B11: Danfoss | C11: PAHT | D11: PAHT 25 | E11: 53007310 | F11: Danfoss HD pomp PAHT25 IEC200 700/14,3/160 - 2400/ 56,2/160 | H11: 180B0020 | I11: 180B4055 | J11: 53909020 | K11: 180B4054 | L11: 53909220 | M11: 180B4052 | N11: 53909070 | O11: 180B4053 | P11: 53909130 | Q11: 180B4254 | R11: 53909410 | W11: 180Z0236 | X11: 53908310
B12: Danfoss | C12: PAHT | D12: PAHT 32 | E12: 53007320 | F12: Danfoss HD pomp PAHT32 IEC200 700/19,8/160 - 2400/ 73,0/160 | H12: 180B0021 | I12: 180B4055 | J12: 53909020 | K12: 180B4054 | L12: 53909220 | M12: 180B4052 | N12: 53909070 | O12: 180B4053 | P12: 53909130 | Q12: 180B4257 | R12: 53909420 | W12: 180Z0236 | X12: 53908310
B13: Danfoss | C13: PAHT | D13: PAHT 50 | E13: 53007330 | F13: Danfoss HD pomp PAHT50 IEC200 1500rpm 68,7ltr/min - 80 bar | H13: 180B0085 | I13: 180B4196 | J13: 53909030 | K13: 180B4195 | L13: 53909230 | M13: 180B4192 | N13: 53909080 | O13: 180B4194 | P13: 53909140 | Q13: 180B4252 | R13: 53909430 | W13: 180Z0237 | X13: 53908330
B14: Danfoss | C14: PAHT | D14: PAHT 63 | E14: 53007340 | F14: Danfoss HD pomp PAHT63 IEC200 700/35,1/160 - 2400/102,2/160 | H14: 180B0086 | I14: 180B4196 | J14: 53909030 | K14: 180B4195 | L14: 53909230 | M14: 180B4192 | N14: 53909080 | O14: 180B4194 | P14: 53909140 | Q14: 180B4255 | R14: 53909440 | W14: 180Z0237 | X14: 53908330
B15: Danfoss | C15: PAHT | D15: PAHT 70 | E15: 53007350 | F15: Danfoss HD pomp PAHT70 IEC200 700/41,0/160 - 1800/115,8/160 | H15: 180B0087 | I15: 180B4196 | J15: 53909030 | K15: 180B4195 | L15: 53909230 | M15: 180B4192 | N15: 53909080 | O15: 180B4194 | P15: 53909140 | Q15: 180B4258 | R15: 53909450 | W15: 180Z0237 | X15: 53908330
B16: Danfoss | C16: PAHT | D16: PAHT 80 | E16: 53007360 | F16: Danfoss HD pomp PAHT80 IEC200 700/48,1/160 - 2400/134,1/160 | H16: 180B0088 | I16: 180B4196 | J16: 53909030 | K16: 180B4195 | L16: 53909230 | M16: 180B4193 | N16: 53906040 | O16: 180B4194 | P16: 53909140 | Q16: 180B4253 | R16: 53909460 | W16: 180Z0237 | X16: 53908330
B17: Danfoss | C17: PAHT | D17: PAHT 90 | E17: 53007370 | F17: Danfoss HD pomp PAHT90 IEC200 700/52,3/160 - 1800/151,3/160 | H17: 180B0089 | I17: 180B4196 | J17: 53909030 | K17: 180B4195 | L17: 53909230 | M17: 180B4193 | N17: 53906040 | O17: 180B4194 | P17: 53909140 | Q17: 180B4256 | R17: 53909470 | W17: 180Z0237 | X17: 53908330
B18: Danfoss | C18: PAH | D18: PAH 2 | E18: 53007500 | F18: Danfoss HD pomp PAH 2 IEC200 clockwise rotation | H18: 180B0024 | I18: 180B4100 | J18: 53908000 | K18: 180B4112 | L18: 53908200 | M18: 180B4101 | N18: 53908050 | O18: 180B4110 | P18: 53908100 | Q18: 180B4301 | R18: 53909340 | W18: 180Z0235 | X18: 53908300
... B28: Danfoss | C28: PAH | D28: PAH 80 | E28: 53007660 | F28: Danfoss HD pomp PAH 80 IEC200 clockwise rotation | H28: 180B0041 | I28: 180B4121 | J28: 53908030 | K28: 180B4126 | L28: 53908230 | M28: 180B4122 | N28: 53908080 | O28: 180B4125 | P28: 53908140 | Q28: 180B4012 | R28: 53908460 | W28: 180Z0237 | X28: 53908330
B29: Danfoss | C29: PAH | D29: PAH 80 ccr | E29: 53007690 | F29: Danfoss HD pomp PAH 80 IEC200 counterclockwise rotation | H29: 180B0066 | I29: 180B4121 | J29: 53908030 | K29: 180B4127 | M29: 180B4122 | N29: 53908080 | O29: 180B4125 | P29: 53908140 | Q29: 180B4012 | R29: 53908460 | W29: 180Z0237 | X29: 53908330
B30: Danfoss | C30: APP | D30: APP 0.6 | E30: 53007700 | F30: Danfoss HD pomp APP 0.6 180B3048 | H30: 180B3048 | I30: 180B4141 | J30: 53910210 | K30: 180B4140 | L30: 53911010 | M30: 180B4139 | N30: 53910810 | O30: 180B4137 | P30: 53910310 | S30: 180B4138 | T30: 53910460 | W30: 180B4142 | X30: 53910110
B31: Danfoss | C31: APP | D31: APP 0.8 | E31: 53007710 | F31: Danfoss HD pomp APP 0.8 180B3037 | H31: 180B3037 | I31: 180B4141 | J31: 53910210 | K31: 180B4140 | L31: 53911010 | M31: 180B4139 | N31: 53910810 | O31: 180B4137 | P31: 53910310 | S31: 180B4138 | T31: 53910460 | W31: 180B4142 | X31: 53910110
B32: Danfoss | C32: APP | D32: APP 1.0 | E32: 53007720 | F32: Danfoss HD pomp APP 1.0 180B3049 | H32: 180B3049 | I32: 180B4141 | J32: 53910210 | K32: 180B4140 | L32: 53911010 | M32: 180B4139 | N32: 53910810 | O32: 180B4137 | P32: 53910310 | S32: 180B4138 | T32: 53910460 | W32: 180B4142 | X32: 53910110
B33: Danfoss | C33: APP | D33: APP 1.5 | E33: 53007730 | F33: Danfoss HD pomp APP 1.5 180B3043 | H33: 180B3043 | I33: 180B4147 | J33: 53910220 | K33: 180B4146 | L33: 53911020 | M33: 180B4145 | N33: 53910820 | O33: 180B4143 | P33: 53910320 | S33: 180B4177 | T33: 53910470 | U33: 180B4136 | V33: 53910710 | W33: 180B4148 | X33: 53910120
B34: Danfoss | C34: APP | D34: APP 1.8 | E34: 53007740 | F34: Danfoss HD pomp APP 1.8 180B3044 | H34: 180B3044 | I34: 180B4147 | J34: 53910220 | K34: 180B4146 | L34: 53911020 | M34: 180B4145 | N34: 53910820 | O34: 180B4143 | P34: 53910320 | S34: 180B4177 | T34: 53910470 | U34: 180B4136 | V34: 53910710 | W34: 180B4148 | X34: 53910120
B35: Danfoss | C35: APP | D35: APP 2.2 | E35: 53007750 | F35: Danfoss HD pomp APP 2.2 180B3045 | H35: 180B3045 | I35: 180B4147 | J35: 53910220 | K35: 180B4146 | L35: 53911020 | M35: 180B4145 | N35: 53910820 | O35: 180B4143 | P35: 53910320 | S35: 180B4144 | T35: 53910480 | U35: 180B4136 | V35: 53910710 | W35: 180B4148 | X35: 53910120
B36: Danfoss | C36: APP | D36: APP 2.5 | E36: 53007760 | F36: Danfoss HD pomp APP 2.5 180B3046 | H36: 180B3046 | I36: 180B4147 | J36: 53910220 | K36: 180B4146 | L36: 53911020 | M36: 180B4145 | N36: 53910820 | O36: 180B4143 | P36: 53910320 | S36: 180B4144 | T36: 53910480 | U36: 180B4136 | V36: 53910710 | W36: 180B4148 | X36: 53910120
B37: Danfoss | C37: APP | D37: APP 3.0 | E37: 53007770 | F37: Danfoss HD pomp APP 3.0 180B3030 | H37: 180B3030 | I37: 180B4153 | J37: 53910230 | K37: 180B4152 | L37: 53911030 | M37: 180B4151 | N37: 53910830 | O37: 180B4149 | P37: 53910330 | Q37: 180B4134 | R37: 53911110 | S37: 180B4150 | T37: 53910490 | U37: 180B4136 | V37: 53910710 | W37: 180B4148 | X37: 53910120
B38: Danfoss | C38: APP | D38: APP 3.5 | E38: 53007780 | F38: Danfoss HD pomp APP 3.5 180B3032 | H38: 180B3032 | I38: 180B4153 | J38: 53910230 | K38: 180B4152 | L38: 53911030 | M38: 180B4151 | N38: 53910830 | O38: 180B4149 | P38: 53910330 | Q38: 180B4135 | R38: 53911120 | S38: 180B4150 | T38: 53910490 | U38: 180B4136 | V38: 53910710 | W38: 180B4148 | X38: 53910120
B39: Danfoss | C39: APP | D39: APP 5.1 | E39: 53007790 | F39: Danfoss HD pomp APP 5.1 180B3005 | H39: 180B3005 | I39: 180B4161 | J39: 53910240 | K39: 180B4160 | L39: 53911040 | M39: 180B4158 | N39: 53910840 | O39: 180B4154 | P39: 53910340 | Q39: 180B4129 | R39: 53911130 | S39: 180B4156 | T39: 53910500 | W39: 180B4162 | X39: 53910130
B40: Danfoss | C40: APP | D40: APP 6.5 | E40: 53007800 | F40: Danfoss HD pomp APP 6.5 180B3006 | H40: 180B3006 | I40: 180B4161 | J40: 53910240 | K40: 180B4160 | L40: 53911040 | M40: 180B4158 | N40: 53910840 | O40: 180B4154 | P40: 53910340 | Q40: 180B4130 | R40: 53911140 | S40: 180B4156 | T40: 53910500 | W40: 180B4162 | X40: 53910130
B41: Danfoss | C41: APP | D41: APP 7.2 | E41: 53007810 | F41: Danfoss HD pomp APP 7.2 180B3007 | H41: 180B3007 | I41: 180B4161 | J41: 53910240 | K41: 180B4160 | L41: 53911040 | M41: 180B4158 | N41: 53910840 | O41: 180B4154 | P41: 53910340 | Q41: 180B4131 | R41: 53911150 | S41: 180B4156 | T41: 53910500 | W41: 180B4162 | X41: 53910130
B42: Danfoss | C42: APP | D42: APP 8.2 | E42: 53007820 | F42: Danfoss HD pomp APP 8.2 180B3008 | H42: 180B3008 | I42: 180B4161 | J42: 53910240 | K42: 180B4160 | L42: 53911040 | M42: 180B4158 | N42: 53910840 | O42: 180B4154 | P42: 53910340 | Q42: 180B4132 | R42: 53911160 | S42: 180B4156 | T42: 53910500 | W42: 180B4162 | X42: 53910130
B43: Danfoss | C43: APP | D43: APP 10.2 | E43: 53007830 | F43: Danfoss HD pomp APP10.2 180B3010 | H43: 180B3010 | I43: 180B4161 | J43: 53910240 | K43: 180B4160 | L43: 53911040 | M43: 180B4159 | N43: 53910850 | O43: 180B4155 | P43: 53910350 | Q43: 180B4133 | R43: 53911170 | S43: 180B4157 | T43: 53910510 | W43: 180B4162 | X43: 53910130
B44: Danfoss | C44: APP | D44: APP13/1200 | E44: 53007860 | F44: Danfoss HD pomp APP13/1200 180B3214 | H44: 180B3214 | I44: 180B4229 | K44: 180B4228 | M44: 180B4204 | O44: 180B4221 | P44: 53910360 | Q44: 180B4216 | S44: 180B4201 | U44: 180B4227 | W44: 180B4230
B45: Danfoss | C45: APP | D45: APP13/1500 | E45: 53007870 | F45: Danfoss HD pomp APP13/1500 180B3213 | H45: 180B3213 | I45: 180B4229 | K45: 180B4228 | M45: 180B4204 | O45: 180B4221 | P45: 53910360 | Q45: 180B4223 | S45: 180B4201 | U45: 180B4227 | W45: 180B4230
B46: Danfoss | C46: APP | D46: APP19/1500 | E46: 53007900 | F46: Danfoss HD pomp APP19/1500 180B3252 | H46: 180B3252 | I46: 180B4206 | K46: 180B4205 | M46: 180B4204 | O46: 180B4221 | P46: 53910360 | Q46: 180B4217 | S46: 180B4201 | U46: 180B4203 | W46: 180B4222
A47: KF | B47: Pratissoli | C47: KF | D47: KF28 | E47: 53006900 | F47: Pratissoli hd-pomp KF28 +flens 93 l/m 210bar | I47: KIT 2015 | J47: 53905810 | K47: KIT 2014 | L47: 53905800 | M47: KIT 2012 | N47: 53905780 | O47: KIT 2013 | P47: 53905790 | Y47: KIT 2015 | Z47: 53905810 | AA47: KIT 2014 | AB47: 53905800 | AC47: KIT 2012 | AD47: 53905780 | AE47: KIT 2013 | AF47: 53905790
A48: KE | B48: Pratissoli | C48: KF | D48: KF30 | E48: 53006910 | F48: Pratissoli hd-pomp KF30 +flens 106 l/m 200bar | I48: KIT 2017 | J48: 53905830 | K48: KIT 2016 | L48: 53905802 | M48: KIT 2012 | N48: 53905780 | O48: KIT 2013 | P48: 53905790 | Y48: KIT 2017 | Z48: 53905830 | AA48: KIT 2016 | AB48: 53905802 | AC48: KIT 2012 | AD48: 53905780 | AE48: KIT 2013 | AF48: 53905790
A49: EV | B49: Pratissoli | C49: KF | D49: KF32 | E49: 53006920 | F49: Pratissoli hd-pomp KF32 +flens 1000rpm 120 ltr/min - 180 bar | I49: KIT 2222 | J49: 53905814 | K49: KIT 2066 | L49: 53905804 | M49: KIT 2012 | N49: 53905780 | O49: KIT 2013 | P49: 53905790 | Y49: KIT 2222 | Z49: 53905814 | AA49: KIT 2066 | AB49: 53905804 | AC49: KIT 2012 | AD49: 53905780 | AE49: KIT 2013 | AF49: 53905790
...

Sheet Onderdelen
B1: Artikelnummer | C1: Omschrijving | D1: Omschrijving Engels | E1: Kolom1 | F1: Merk
B2: 53906040 | C2: Kleppenset Danfoss PAHT80-90 | D2: =_xlfn.TRANSLATE(C2,"nl","en") -> Valve set Danfoss PAHT80-90 | F2: danfoss
B3: 53908000 | C3: Danfoss PAH(T) 2-6.3 screw and seal kit | D3: =_xlfn.TRANSLATE(C3,"nl","en") -> Danfoss PAH(T) 2-6.3 screw and seal kit | F3: danfoss
B4: 53908020 | C4: Danfoss PAH 20-32 screw and seal kit | D4: =_xlfn.TRANSLATE(C4,"nl","en") -> Danfoss PAH 20-32 screw and seal kit | F4: danfoss
B5: 53908030 | C5: Danfoss PAH 50-100 screw and seal kit | D5: =_xlfn.TRANSLATE(C5,"nl","en") -> Danfoss PAH 50-100 screw and seal kit | F5: danfoss
B6: 53908050 | C6: Danfoss PAH(T) 2-6.3 valve plate kit | D6: =_xlfn.TRANSLATE(C6,"nl","en") -> Danfoss PAH(T) 2-6.3 valve plate kit | F6: danfoss
B7: 53908060 | C7: Danfoss PAH(T) 10-12.5 valve plate kit | D7: =_xlfn.TRANSLATE(C7,"nl","en") -> Danfoss PAH(T) 10-12.5 valve plate kit | F7: danfoss
B8: 53908070 | C8: Danfoss PAH 20-32 valve plate kit | D8: =_xlfn.TRANSLATE(C8,"nl","en") -> Danfoss PAH 20-32 valve plate kit | F8: danfoss
B9: 53908080 | C9: Danfoss PAH 50-100 valve plate kit | D9: =_xlfn.TRANSLATE(C9,"nl","en") -> Danfoss PAH 50-100 valve plate kit | F9: danfoss
B10: 53908100 | C10: Danfoss PAH 2 piston kit | D10: =_xlfn.TRANSLATE(C10,"nl","en") -> Danfoss PAH 2 piston kit | F10: danfoss
B11: 53908110 | C11: Danfoss PAH 4-6.3 piston kit | D11: =_xlfn.TRANSLATE(C11,"nl","en") -> Danfoss PAH 4-6.3 piston kit | F11: danfoss
B12: 53908120 | C12: Danfoss PAH 10-12.5 piston kit | D12: =_xlfn.TRANSLATE(C12,"nl","en") -> Danfoss PAH 10-12.5 piston kit | F12: danfoss
B13: 53908130 | C13: Danfoss PAH 20-32 piston kit | D13: =_xlfn.TRANSLATE(C13,"nl","en") -> Danfoss PAH 20-32 piston kit | F13: danfoss
B14: 53908140 | C14: Danfoss PAH 50-100 piston kit | D14: =_xlfn.TRANSLATE(C14,"nl","en") -> Danfoss PAH 50-100 piston kit | F14: danfoss
B15: 53908200 | C15: Danfoss PAH 2-6.3 cylinder barrel kit | D15: Danfoss PAH 2-6.3 cylinder barrel kit | F15: danfoss
B16: 53908210 | C16: Danfoss PAH 10-12.5 cylinder barrel kit | D16: Danfoss PAH 10-12.5 cylinder barrel kit | F16: danfoss
B17: 53908220 | C17: Danfoss PAH 20-32 cylinder barrel kit | D17: Danfoss PAH 20-32 cylinder barrel kit | F17: danfoss
B18: 53908230 | C18: Danfoss PAH 50-100 cylinder barrel kit | D18: Danfoss PAH 50-100 cylinder barrel kit | F18: danfoss
B19: 53908300 | C19: Danfoss PAH(T) 2-12.5 tool set shaft sealing | D19: =_xlfn.TRANSLATE(C19,"nl","en") -> Danfoss PAH(T) 2-12.5 tool set shaft sealing | F19: danfoss
B20: 53908310 | C20: Danfoss PAH(T) 20-32 tool set shaft sealing | D20: =_xlfn.TRANSLATE(C20,"nl","en") -> Danfoss PAH(T) 20-32 tool set shaft sealing | F20: danfoss
B21: 53908330 | C21: Danfoss PAH 50-100 tool set shaft sealing | D21: =_xlfn.TRANSLATE(C21,"nl","en") -> Danfoss PAH 50-100 tool set shaft sealing | F21: danfoss
B22: 53908460 | C22: Danfoss PAH 80 swashplate kit | D22: =_xlfn.TRANSLATE(C22,"nl","en") -> Danfoss PAH 80 swashplate kit | F22: danfoss
B23: 53909010 | C23: Danfoss PAH(T) 10-12.5 screw and seal kit | D23: =_xlfn.TRANSLATE(C23,"nl","en") -> Danfoss PAH(T) 10-12.5 screw and seal kit | F23: danfoss
B24: 53909020 | C24: Danfoss PAHT 20-32 screw and seal kit | D24: =_xlfn.TRANSLATE(C24,"nl","en") -> Danfoss PAHT 20-32 screw and seal kit | F24: danfoss
B25: 53909030 | C25: Danfoss PAHT 50-90 screw and seal kit | D25: =_xlfn.TRANSLATE(C25,"nl","en") -> Danfoss PAHT 50-90 screw and seal kit | F25: danfoss
B26: 53909070 | C26: Danfoss PAHT 20-32 valve plate kit | D26: =_xlfn.TRANSLATE(C26,"nl","en") -> Danfoss PAHT 20-32 valve plate kit | F26: danfoss
B27: 53909080 | C27: Danfoss PAHT 50-70 valve plate kit | D27: =_xlfn.TRANSLATE(C27,"nl","en") -> Danfoss PAHT 50-70 valve plate kit | F27: danfoss
B28: 53909100 | C28: Danfoss PAHT 2 piston kit | D28: =_xlfn.TRANSLATE(C28,"nl","en") -> Danfoss PAHT 2 piston kit | F28: danfoss
B29: 53909110 | C29: Danfoss PAHT 3.2-6.3 piston kit | D29: =_xlfn.TRANSLATE(C29,"nl","en") -> Danfoss PAHT 3.2-6.3 piston kit | F29: danfoss
B30: 53909120 | C30: Danfoss PAHT 10-12.5 piston kit | D30: =_xlfn.TRANSLATE(C30,"nl","en") -> Danfoss PAHT 10-12.5 piston kit | F30: danfoss
... B32: 53909140 | C32: Danfoss PAHT 50-90 piston kit | D32: =_xlfn.TRANSLATE(C32,"nl","en") -> Danfoss PAHT 50-90 piston kit | F32: danfoss
B33: 53909200 | C33: Danfoss PAHT 2-6.3 cylinder barrel kit | D33: Danfoss PAHT 2-6.3 cylinder barrel kit | F33: danfoss
B34: 53909210 | C34: Danfoss PAHT 10-12.5 cylinder barrel kit | D34: Danfoss PAHT 10-12.5 cylinder barrel kit | F34: danfoss
B35: 53909220 | C35: Danfoss PAHT 20-32 cylinder barrel kit | D35: Danfoss PAHT 20-32 cylinder barrel kit | F35: danfoss
B36: 53909230 | C36: Danfoss PAHT 50-90 cylinder barrel kit | D36: =_xlfn.TRANSLATE(C36,"nl","en") -> Danfoss PAHT 50-90 cylinder barrel kit | F36: danfoss
B37: 53909340 | C37: Danfoss PAHT 2 swashplate kit | D37: =_xlfn.TRANSLATE(C37,"nl","en") -> Danfoss PAHT 2 swashplate kit | F37: danfoss
B38: 53909350 | C38: Danfoss PAHT 3.2 swashplate kit | D38: =_xlfn.TRANSLATE(C38,"nl","en") -> Danfoss PAHT 3.2 swashplate kit | F38: danfoss
B39: 53909360 | C39: Danfoss PAHT 4 swashplate kit | D39: =_xlfn.TRANSLATE(C39,"nl","en") -> Danfoss PAHT 4 swashplate kit | F39: danfoss
B40: 53909370 | C40: Danfoss PAHT 6.3 swashplate kit | D40: =_xlfn.TRANSLATE(C40,"nl","en") -> Danfoss PAHT 6.3 swashplate kit | F40: danfoss
B41: 53909380 | C41: Danfoss PAHT 10 swashplate kit | D41: =_xlfn.TRANSLATE(C41,"nl","en") -> Danfoss PAHT 10 swashplate kit | F41: danfoss
...
