Workbook
Name APP: 'HD pompen'!$D$30:$D$43
Name Danfoss: 'HD pompen'!$A$4:$A$6
Name EV: 'HD pompen'!$D$58:$D$59
Name Hawk: 'HD pompen'!$A$60:$A$66
Name HFR: 'HD pompen'!$D$85:$D$90
Name KE: 'HD pompen'!$D$52:$D$57
Name KF: 'HD pompen'!$D$47:$D$51
Name MXT: 'HD pompen'!$D$91
Name NHDP: 'HD pompen'!$D$60:$D$64
Name NLT: 'HD pompen'!$D$71
Name NMT: 'HD pompen'!$D$65:$D$70
Name PAH: 'HD pompen'!$D$18:$D$29
Name PAHT: 'HD pompen'!$D$4:$D$17
Name Pratissoli: 'HD pompen'!$A$47:$A$49
Name XLT: 'HD pompen'!$D$72:$D$82
Name XXT: 'HD pompen'!$D$83:$D$84

Sheet Onderdelen HD pompen
E1: {=_xlfn.IFS($F$1=Hulpblad!$A$2,"Language: ",$F$1=Hulpblad!$A$3,"Taal: ")} -> Taal: | F1: EN | G1: {=_xlfn.IFS(F1=Hulpblad!A2,Hulpblad!C2,F1=Hulpblad!A3,Hulpblad!C3)} -> #VALUE!
A2: Danfoss
A3: Pratissoli | E3: =_xlfn.IFNA(VLOOKUP(Hulpblad!$C$120,Tekeningen!$A$2:$C$20,3,FALSE),"")
A4: Hawk
F6: {=_xlfn.IFS($F$1=Hulpblad!$A$2,"Artikelnummer pomp of pomp compleet",$F$1=Hulpblad!$A$3,"Part number pump or pump complete")} -> Part number pump or pump complete
B9: {=_xlfn.IFS($F$1=Hulpblad!$A$2,Hulpblad!$I$2&Hulpblad!B15,$F$1=Hulpblad!$A$3,Hulpblad!I3&Hulpblad!B15)} -> Brand : | C9: {=_xlfn.IFS($F$1=Hulpblad!$A$2,Hulpblad!$J$2&Hulpblad!$C$15,$F$1=Hulpblad!$A$3,Hulpblad!$J$3&Hulpblad!$C$15)} -> Series : | D9: {=_xlfn.IFS($F$1=Hulpblad!$A$2,Hulpblad!$K$2&Hulpblad!$D$15,$F$1=Hulpblad!$A$3,Hulpblad!$K$3&Hulpblad!$D$15)} -> Type :
B11: {=_xlfn.IFS($F$1=Hulpblad!$A$2,"Pompdeel compleet",$F$1=Hulpblad!$A$3,"Pump without motor complete")} -> Pump without motor complete | G11: =_xlfn.XLOOKUP($F$10,'HD pompen'!E:E,'HD pompen'!F:F,"Vraag om artikel toe te voegen") -> 0
B12: {=_xlfn.IFS($F$1=Hulpblad!$A$2,"Artikelnummer",$F$1=Hulpblad!$A$3,"Part number")} -> Part number | C12: {=_xlfn.IFS($F$1=Hulpblad!$A$2,"Omschrijving",$F$1=Hulpblad!$A$3,"Description")} -> Description
B13: =_xlfn.XLOOKUP(D10,'HD pompen'!D:D,'HD pompen'!E:E) -> 0 | C13: =_xlfn.IFNA(_xlfn.XLOOKUP(B13,'HD pompen'!E:E,'HD pompen'!F:F),"")
B15: {=_xlfn.IFS($F$1=Hulpblad!$A$2,"Onderdelen",$F$1=Hulpblad!$A$3,"Parts")} -> Parts
B16: {=_xlfn.IFS($F$1=Hulpblad!$A$2,"Onderdeel",$F$1=Hulpblad!$A$3,"Part")} -> Part | C16: {=_xlfn.IFS($F$1=Hulpblad!$A$2,"Tekening nr.",$F$1=Hulpblad!$A$3,"Drawing nr.")} -> Drawing nr. | D16: {=_xlfn.IFS($F$1=Hulpblad!$A$2,"Artikelnummer",$F$1=Hulpblad!$A$3,"Part number")} -> Part number | E16: {=_xlfn.IFS($F$1=Hulpblad!$A$2,"Omschrijving",$F$1=Hulpblad!$A$3,"Description")} -> Description
B17: {=_xlfn.IFNA(VLOOKUP($B$10,Hulpblad!$A$9:$Y$11,_xlfn.IFS($F$1=Hulpblad!$A$2,2,$F$1=Hulpblad!$A$3,3),FALSE),"?")} -> ? | C17: I | D17: =_xlfn.XLOOKUP($D$10,'HD pompen'!D:D,'HD pompen'!J:J) -> 0 | E17: {=_xlfn.IFNA(VLOOKUP(D17,Onderdelen!B$1:D$1048565,_xlfn.IFS($F$1=Hulpblad!$A$2,2,$F$1=Hulpblad!$A$3,3),FALSE),"")}
B18: {=_xlfn.IFNA(VLOOKUP($B$10,Hulpblad!$A$9:$Y$11,_xlfn.IFS($F$1=Hulpblad!$A$2,5,$F$1=Hulpblad!$A$3,6),FALSE),"?")} -> ? | C18: II | D18: =_xlfn.XLOOKUP($D$10,'HD pompen'!D:D,'HD pompen'!L:L) -> 0 | E18: {=_xlfn.IFNA(VLOOKUP(D18,Onderdelen!B$1:D$1048565,_xlfn.IFS($F$1=Hulpblad!$A$2,2,$F$1=Hulpblad!$A$3,3),FALSE),"")}
B19: {=_xlfn.IFNA(VLOOKUP($B$10,Hulpblad!$A$9:$Y$11,_xlfn.IFS($F$1=Hulpblad!$A$2,8,$F$1=Hulpblad!$A$3,9),FALSE),"?")} -> ? | C19: III | D19: =_xlfn.XLOOKUP($D$10,'HD pompen'!D:D,'HD pompen'!N:N) -> 0 | E19: {=_xlfn.IFNA(VLOOKUP(D19,Onderdelen!B$1:D$1048565,_xlfn.IFS($F$1=Hulpblad!$A$2,2,$F$1=Hulpblad!$A$3,3),FALSE),"")}
B20: {=_xlfn.IFNA(VLOOKUP($B$10,Hulpblad!$A$9:$Y$11,_xlfn.IFS($F$1=Hulpblad!$A$2,11,$F$1=Hulpblad!$A$3,12),FALSE),"?")} -> ? | C20: IV | D20: =_xlfn.XLOOKUP($D$10,'HD pompen'!D:D,'HD pompen'!P:P) -> 0 | E20: {=_xlfn.IFNA(VLOOKUP(D20,Onderdelen!B$1:D$1048565,_xlfn.IFS($F$1=Hulpblad!$A$2,2,$F$1=Hulpblad!$A$3,3),FALSE),"")}
B21: {=_xlfn.IFNA(VLOOKUP($B$10,Hulpblad!$A$9:$Y$11,_xlfn.IFS($F$1=Hulpblad!$A$2,14,$F$1=Hulpblad!$A$3,15),FALSE),"?")} -> ? | C21: V | D21: =_xlfn.XLOOKUP($D$10,'HD pompen'!D:D,'HD pompen'!R:R) -> 0 | E21: {=_xlfn.IFNA(VLOOKUP(D21,Onderdelen!B$1:D$1048565,_xlfn.IFS($F$1=Hulpblad!$A$2,2,$F$1=Hulpblad!$A$3,3),FALSE),"")}
B22: {=_xlfn.IFNA(VLOOKUP($B$10,Hulpblad!$A$9:$Y$11,_xlfn.IFS($F$1=Hulpblad!$A$2,17,$F$1=Hulpblad!$A$3,18),FALSE),"?")} -> ? | C22: VI | D22: =_xlfn.XLOOKUP($D$10,'HD pompen'!D:D,'HD pompen'!T:T) -> 0 | E22: {=_xlfn.IFNA(VLOOKUP(D22,Onderdelen!B$1:D$1048565,_xlfn.IFS($F$1=Hulpblad!$A$2,2,$F$1=Hulpblad!$A$3,3),FALSE),"")}
B23: {=_xlfn.IFNA(VLOOKUP($B$10,Hulpblad!$A$9:$Y$11,_xlfn.IFS($F$1=Hulpblad!$A$2,20,$F$1=Hulpblad!$A$3,21),FALSE),"?")} -> ? | C23: VII | D23: =_xlfn.XLOOKUP($D$10,'HD pompen'!D:D,'HD pompen'!V:V) -> 0 | E23: {=_xlfn.IFNA(VLOOKUP(D23,Onderdelen!B$1:D$1048565,_xlfn.IFS($F$1=Hulpblad!$A$2,2,$F$1=Hulpblad!$A$3,3),FALSE),"")}
B24: {=_xlfn.IFNA(VLOOKUP($B$10,Hulpblad!$A$9:$Y$11,_xlfn.IFS($F$1=Hulpblad!$A$2,23,$F$1=Hulpblad!$A$3,24),FALSE),"?")} -> ? | D24: =_xlfn.XLOOKUP($D$10,'HD pompen'!D:D,'HD pompen'!X:X) -> 0 | E24: {=_xlfn.IFNA(VLOOKUP(D24,Onderdelen!B$1:D$1048565,_xlfn.IFS($F$1=Hulpblad!$A$2,2,$F$1=Hulpblad!$A$3,3),FALSE),"")}
B26: {=_xlfn.IFS($F$1=Hulpblad!$A$2,"Opmerking",$F$1=Hulpblad!$A$3,"Remark")} -> Remark
B27: {=_xlfn.IFS($F$1=Hulpblad!$A$2,"Voor vragen neem contact op met: ",$F$1=Hulpblad!$A$3,"For questions please contact: ")} -> For questions please contact:
B28: sales@vanderendegroup.com
B29: =_xlfn.IFNA(VLOOKUP(Hulpblad!$C$120,Tekeningen!$A$2:$B$20,2,FALSE),"")

Sheet Tekeningen
A2: DA1 | B2: #VALUE! | C2: #VALUE!
A3: DA2 | B3: #VALUE! | C3: #VALUE!
A4: DA3 | B4: #VALUE! | C4: #VALUE!
A5: DA4 | B5: #VALUE! | C5: #VALUE!
A6: DP1 | B6: #VALUE! | C6: #VALUE!
A7: DP2 | B7: #VALUE! | C7: #VALUE!
A8: DP3 | B8: #VALUE! | C8: #VALUE!
A9: DP4 | B9: #VALUE! | C9: #VALUE!
A10: DP5 | B10: #VALUE! | C10: #VALUE!
A11: DP6 | B11: #VALUE! | C11: #VALUE!
A12: PR1 | B12: #VALUE! | C12: #VALUE!
A13: PR2 | B13: #VALUE! | C13: #VALUE!
... A20: HA6 | B20: #VALUE! | C20: #VALUE!

Sheet Hulpblad
B1: sales@vanderendegroup.com
A2: NL | B2: #VALUE! | C2: {=_FV(B2,"Image")} -> #VALUE! | D2: {=_FV(B2,"Abbreviation")} -> NL | I2: Merk : | J2: Serie : | K2: Type :
A3: EN | B3: #VALUE! | C3: {=_FV(B3,"Image")} -> #VALUE! | D3: {=_FV(B3,"Abbreviation")} -> GB | I3: Brand : | J3: Series : | K3: Type :
A4: FR | B4: #VALUE! | C4: {=_FV(B4,"Image")} -> #VALUE! | D4: {=_FV(B4,"Abbreviation")} -> FR | I4: =_xlfn.TRANSLATE(I3,$A$3,$A$4) -> Marque : | J4: =_xlfn.TRANSLATE(J3,$A$3,$A$4) -> Série : | K4: =_xlfn.TRANSLATE(K3,$A$3,$A$4) -> Type :
A5: DE | B5: #VALUE! | C5: {=_FV(B5,"Image")} -> #VALUE! | D5: {=_FV(B5,"Abbreviation")} -> DE | I5: =_xlfn.TRANSLATE(I3,$A$3,$D$5) -> Marke: | J5: =_xlfn.TRANSLATE(J3,$A$3,$D$5) -> Serien: | K5: =_xlfn.TRANSLATE(K3,$A$3,$D$5) -> Typ:
A8: 1 | B8: 2 | C8: 3 | D8: 4 | E8: 5 | F8: 6 | G8: 7 | H8: 8 | I8: 9 | J8: 10 | K8: 11 | L8: 12 | M8: 13 | N8: 14 | O8: 15 | P8: 16 | Q8: 17 | R8: 18 | S8: 19 | T8: 20 | U8: 21 | V8: 22 | W8: 23 | X8: 24 | Y8: 25
A9: Danfoss | B9: Seal | C9: Seal | E9: Cylinder barrel | F9: Cylinder barrel | H9: Klepplaat | I9: Valve plate | K9: Zuiger | L9: Piston | N9: Tuimelschijf | O9: Swash Plate | Q9: Retainer | R9: Retainer | T9: Spoelklep | U9: Flushing valve | W9: Gereedschap | X9: Tool set
A10: Pratissoli | B10: Compleet afdichting | C10: Sealkit complete | E10: Plunger afdichting | F10: Plunger seals | H10: Zuigkleppen | I10: Inlet valves | K10: Perskleppen | L10: Outlet valves
A11: Hawk | B11: Pompkop compleet | C11: Manifold | E11: Afdichting compleet | F11: Sealkit complete | H11: Zuigerafdichtingen | I11: Plunger seals | K11: Kleppen compleet | L11: Valves complete | N11: Plunjer (1) | O11: Plunger (1) | Q11: Olie afdichting | R11: Oil seals
B14: Terugzoeken pomp type
B15: =_xlfn.XLOOKUP('Onderdelen HD pompen'!$F$10,'HD pompen'!E4:E223,'HD pompen'!B4:B223," ",0) | C15: =_xlfn.XLOOKUP('Onderdelen HD pompen'!$F$10,'HD pompen'!$E4:$E223,'HD pompen'!C4:C223," ") | D15: =_xlfn.XLOOKUP('Onderdelen HD pompen'!$F$10,'HD pompen'!$E4:$E223,'HD pompen'!D4:D223," ")
B18: Pratissoli
B28: Hawk
C30: PAHT 2 | D30: DP1
C31: PAHT 3.2 | D31: DP1
C32: PAHT 4 | D32: DP1
C33: PAHT 6.3 | D33: DP1
C34: PAHT 10 | D34: DP2
C35: PAHT 12.5 | D35: DP2
C36: PAHT 20 | D36: DP5
C37: PAHT 25 | D37: DP5
C38: PAHT 32 | D38: DP5
C39: PAHT 50 | D39: DP6
C40: PAHT 63 | D40: DP6
C41: PAHT 70 | D41: DP6
... C69: APP 10.2 | D69: DA4
C70: APP13/1200
C71: APP13/1500
C72: APP19/1500
C73: KF28 | D73: PR1
C74: KF30 | D74: PR1
C75: KF32 | D75: PR1
C76: KF36 | D76: PR1
C77: KF40 | D77: PR1
C78: KE20 | D78: PR2
C79: KE22 | D79: PR2
C80: KE24 | D80: PR2
C81: KE28H | D81: PR2
C82: KE30H | D82: PR2
C83: KE36H | D83: PR2
C84: EV20 | D84: PR3
... C117: MXT1015R | D117: HA6
C119: Tekening bij pomp
C120: =VLOOKUP('Onderdelen HD pompen'!$D$10,C30:D117,2,FALSE) -> #N/A

Sheet HD pompen
H1: Hawk | I1: Manifold | K1: Complete afdichting | M1: Plunger seals | O1: Kleppen compleet | Q1: Plunger (1) | S1: Olie afdichting
H2: Pratissoli | I2: Compleet afdichting | K2: Plunger afdichting | M2: Zuigkleppen | O2: Perskleppen | Y2: Compleet afdichting | AA2: Plunger afdichting | AC2: Zuigkleppen | AE2: Perskleppen | AG2: Manifold | AI2: Complete afdichting | AK2: Plunger seals | AM2: Kleppen compleet | AO2: Plunger (1) | AQ2: Olie afdichting
A3: Serie | D3: model | E3: Artikelen | F3: Omschrijving | H3: Danfoss | I3: Seal | K3: Cylinder barrel | M3: Valve plate | O3: Piston | Q3: Swash Plate | S3: Retainer | U3: Flushing valve | W3: Tool set
A4: PAH | B4: Danfoss | C4: PAHT | D4: PAHT 2 | E4: 53007200 | F4: Danfoss HD pomp PAHT 2 IEC200 | H4: 180B0031 | I4: 180B4100 | J4: 53908000 | K4: 180B4104 | L4: 53909200 | M4: 180B4101 | N4: 53908050 | O4: 180B4102 | P4: 53909100 | Q4: 180B4301 | R4: 53909340 | W4: 180Z0235 | X4: 53908300
A5: PAHT | B5: Danfoss | C5: PAHT | D5: PAHT 3.2 | E5: 53007210 | F5: Danfoss HD pomp PAHT 3,2 IEC200 | H5: 180B0077 | I5: 180B4100 | J5: 53908000 | K5: 180B4104 | L5: 53909200 | M5: 180B4101 | N5: 53908050 | O5: 180B4103 | P5: 53909110 | Q5: 180B4302 | R5: 53909350 | W5: 180Z0235 | X5: 53908300
A6: APP | B6: Danfoss | C6: PAHT | D6: PAHT 4 | E6: 53007220 | F6: Danfoss HD pomp PAHT 4 IEC200 | H6: 180B0030 | I6: 180B4100 | J6: 53908000 | K6: 180B4104 | L6: 53909200 | M6: 180B4101 | N6: 53908050 | O6: 180B4103 | P6: 53909110 | Q6: 180B4303 | R6: 53909360 | W6: 180Z0235 | X6: 53908300
B7: Danfoss | C7: PAHT | D7: PAHT 6.3 | E7: 53007230 | F7: Danfoss HD pomp PAHT 6,3 IEC200 | H7: 180B0029 | I7: 180B4100 | J7: 53908000 | K7: 180B4104 | L7: 53909200 | M7: 180B4101 | N7: 53908050 | O7: 180B4103 | P7: 53909110 | Q7: 180B4304 | R7: 53909370 | W7: 180Z0235 | X7: 53908300
B8: Danfoss | C8: PAHT | D8: PAHT 10 | E8: 53007240 | F8: Danfoss HD pomp PAHT10 IEC200 1000/ 8,0/140 - 2400/21,6/140 | H8: 180B0032 | I8: 180B4105 | J8: 53909010 | K8: 180B4107 | L8: 53909210 | M8: 180B4108 | N8: 53908060 | O8: 180B4106 | P8: 53909120 | Q8: 180B4305 | R8: 53909380 | W8: 180Z0235 | X8: 53908300
B9: Danfoss | C9: PAHT | D9: PAHT 12.5 | E9: 53007250 | F9: Danfoss HD pomp PAHT12,5IEC200 1000/10,5/140 - 2400/27,6/140 | H9: 180B0033 | I9: 180B4105 | J9: 53909010 | K9: 180B4107 | L9: 53909210 | M9: 180B4108 | N9: 53908060 | O9: 180B4106 | P9: 53909120 | Q9: 180B4306 | R9: 53909390 | W9: 180Z0235 | X9: 53908300
B10: Danfoss | C10: PAHT | D10: PAHT 20 | E10: 53007300 | F10: Danfoss HD pomp PAHT20 IEC200 2400/27,0/100 | H10: 180B0019 | I10: 180B4055 | J10: 53909020 | K10: 180B4054 | L10: 53909220 | M10: 180B4052 | N10: 53909070 | O10: 180B4053 | P10: 53909130 | Q10: 180B4251 | R10: 53909400 | W10: 180Z0236 | X10: 53908310
B11: Danfoss | C11: PAHT | D11: PAHT 25 | E11: 53007310 | F11: Danfoss HD pomp PAHT25 IEC200 700/14,3/160 - 2400/ 56,2/160 | H11: 180B0020 | I11: 180B4055 | J11: 53909020 | K11: 180B4054 | L11: 53909220 | M11: 180B4052 | N11: 53909070 | O11: 180B4053 | P11: 53909130 | Q11: 180B4254 | R11: 53909410 | W11: 180Z0236 | X11: 53908310
B12: Danfoss | C12: PAHT | D12: PAHT 32 | E12: 53007320 | F12: Danfoss HD pomp PAHT32 IEC200 700/19,8/160 - 2400/ 73,0/160 | H12: 180B0021 | I12: 180B4055 | J12: 53909020 | K12: 180B4054 | L12: 53909220 | M12: 180B4052 | N12: 53909070 | O12: 180B4053 | P12: 53909130 | Q12: 180B4257 | R12: 53909420 | W12: 180Z0236 | X12: 53908310
B13: Danfoss | C13: PAHT | D13: PAHT 50 | E13: 53007330 | F13: Danfoss HD pomp PAHT50 IEC200 1500rpm 68,7ltr/min - 80 bar | H13: 180B0085 | I13: 180B4196 | J13: 53909030 | K13: 180B4195 | L13: 53909230 | M13: 180B4192 | N13: 53909080 | O13: 180B4194 | P13: 53909140 | Q13: 180B4252 | R13: 53909430 | W13: 180Z0237 | X13: 53908330
B14: Danfoss | C14: PAHT | D14: PAHT 63 | E14: 53007340 | F14: Danfoss HD pomp PAHT63 IEC200 700/35,1/160 - 2400/102,2/160 | H14: 180B0086 | I14: 180B4196 | J14: 53909030 | K14: 180B4195 | L14: 53909230 | M14: 180B4192 | N14: 53909080 | O14: 180B4194 | P14: 53909140 | Q14: 180B4255 | R14: 53909440 | W14: 180Z0237 | X14: 53908330
B15: Danfoss | C15: PAHT | D15: PAHT 70 | E15: 53007350 | F15: Danfoss HD pomp PAHT70 IEC200 700/41,0/160 - 1800/115,8/160 | H15: 180B0087 | I15: 180B4196 | J15: 53909030 | K15: 180B4195 | L15: 53909230 | M15: 180B4192 | N15: 53909080 | O15: 180B4194 | P15: 53909140 | Q15: 180B4258 | R15: 53909450 | W15: 180Z0237 | X15: 53908330
B16: Danfoss | C16: PAHT | D16: PAHT 80 | E16: 53007360 | F16: Danfoss HD pomp PAHT80 IEC200 700/48,1/160 - 2400/134,1/160 | H16: 180B0088 | I16: 180B4196 | J16: 53909030 | K16: 180B4195 | L16: 53909230 | M16: 180B4193 | N16: 53906040 | O16: 180B4194 | P16: 53909140 | Q16: 180B4253 | R16: 53909460 | W16: 180Z0237 | X16: 53908330
B17: Danfoss | C17: PAHT | D17: PAHT 90 | E17: 53007370 | F17: Danfoss HD pomp PAHT90 IEC200 700/52,3/160 - 1800/151,3/160 | H17: 180B0089 | I17: 180B4196 | J17: 53909030 | K17: 180B4195 | L17: 53909230 | M17: 180B4193 | N17: 53906040 | O17: 180B4194 | P17: 53909140 | Q17: 180B4256 | R17: 53909470 | W17: 180Z0237 | X17: 53908330
B18: Danfoss | C18: PAH | D18: PAH 2 | E18: 53007500 | F18: Danfoss HD pomp PAH 2 IEC200 clockwise rotation | H18: 180B0024 | I18: 180B4100 | J18: 53908000 | K18: 180B4112 | L18: 53908200 | M18: 180B4101 | N18: 53908050 | O18: 180B4110 | P18: 53908100 | Q18: 180B4301 | R18: 53909340 | W18: 180Z0235 | X18: 53908300
... B28: Danfoss | C28: PAH | D28: PAH 80 | E28: 53007660 | F28: Danfoss HD pomp PAH 80 IEC200 clockwise rotation | H28: 180B0041 | I28: 180B4121 | J28: 53908030 | K28: 180B4126 | L28: 53908230 | M28: 180B4122 | N28: 53908080 | O28: 180B4125 | P28: 53908140 | Q28: 180B4012 | R28: 53908460 | W28: 180Z0237 | X28: 53908330
B29: Danfoss | C29: PAH | D29: PAH 80 ccr | E29: 53007690 | F29: Danfoss HD pomp PAH 80 IEC200 counterclockwise rotation | H29: 180B0066 | I29: 180B4121 | J29: 53908030 | K29: 180B4127 | M29: 180B4122 | N29: 53908080 | O29: 180B4125 | P29: 53908140 | Q29: 180B4012 | R29: 53908460 | W29: 180Z0237 | X29: 53908330
B30: Danfoss | C30: APP | D30: APP 0.6 | E30: 53007700 | F30: Danfoss HD pomp APP 0.6 180B3048 | H30: 180B3048 | I30: 180B4141 | J30: 53910210 | K30: 180B4140 | L30: 53911010 | M30: 180B4139 | N30: 53910810 | O30: 180B4137 | P30: 53910310 | S30: 180B4138 | T30: 53910460 | W30: 180B4142 | X30: 53910110
B31: Danfoss | C31: APP | D31: APP 0.8 | E31: 53007710 | F31: Danfoss HD pomp APP 0.8 180B3037 | H31: 180B3037 | I31: 180B4141 | J31: 53910210 | K31: 180B4140 | L31: 53911010 | M31: 180B4139 | N31: 53910810 | O31: 180B4137 | P31: 53910310 | S31: 180B4138 | T31: 53910460 | W31: 180B4142 | X31: 53910110
B32: Danfoss | C32: APP | D32: APP 1.0 | E32: 53007720 | F32: Danfoss HD pomp APP 1.0 180B3049 | H32: 180B3049 | I32: 180B4141 | J32: 53910210 | K32: 180B4140 | L32: 53911010 | M32: 180B4139 | N32: 53910810 | O32: 180B4137 | P32: 53910310 | S32: 180B4138 | T32: 53910460 | W32: 180B4142 | X32: 53910110
B33: Danfoss | C33: APP | D33: APP 1.5 | E33: 53007730 | F33: Danfoss HD pomp APP 1.5 180B3043 | H33: 180B3043 | I33: 180B4147 | J33: 53910220 | K33: 180B4146 | L33: 53911020 | M33: 180B4145 | N33: 53910820 | O33: 180B4143 | P33: 53910320 | S33: 180B4177 | T33: 53910470 | U33: 180B4136 | V33: 53910710 | W33: 180B4148 | X33: 53910120
B34: Danfoss | C34: APP | D34: APP 1.8 | E34: 53007740 | F34: Danfoss HD pomp APP 1.8 180B3044 | H34: 180B3044 | I34: 180B4147 | J34: 53910220 | K34: 180B4146 | L34: 53911020 | M34: 180B4145 | N34: 53910820 | O34: 180B4143 | P34: 53910320 | S34: 180B4177 | T34: 53910470 | U34: 180B4136 | V34: 53910710 | W34: 180B4148 | X34: 53910120
B35: Danfoss | C35: APP | D35: APP 2.2 | E35: 53007750 | F35: Danfoss HD pomp APP 2.2 180B3045 | H35: 180B3045 | I35: 180B4147 | J35: 53910220 | K35: 180B4146 | L35: 53911020 | M35: 180B4145 | N35: 53910820 | O35: 180B4143 | P35: 53910320 | S35: 180B4144 | T35: 53910480 | U35: 180B4136 | V35: 53910710 | W35: 180B4148 | X35: 53910120
B36: Danfoss | C36: APP | D36: APP 2.5 | E36: 53007760 | F36: Danfoss HD pomp APP 2.5 180B3046 | H36: 180B3046 | I36: 180B4147 | J36: 53910220 | K36: 180B4146 | L36: 53911020 | M36: 180B4145 | N36: 53910820 | O36: 180B4143 | P36: 53910320 | S36: 180B4144 | T36: 53910480 | U36: 180B4136 | V36: 53910710 | W36: 180B4148 | X36: 53910120
B37: Danfoss | C37: APP | D37: APP 3.0 | E37: 53007770 | F37: Danfoss HD pomp APP 3.0 180B3030 | H37: 180B3030 | I37: 180B4153 | J37: 53910230 | K37: 180B4152 | L37: 53911030 | M37: 180B4151 | N37: 53910830 | O37: 180B4149 | P37: 53910330 | Q37: 180B4134 | R37: 53911110 | S37: 180B4150 | T37: 53910490 | U37: 180B4136 | V37: 53910710 | W37: 180B4148 | X37: 53910120
B38: Danfoss | C38: APP | D38: APP 3.5 | E38: 53007780 | F38: Danfoss HD pomp APP 3.5 180B3032 | H38: 180B3032 | I38: 180B4153 | J38: 53910230 | K38: 180B4152 | L38: 53911030 | M38: 180B4151 | N38: 53910830 | O38: 180B4149 | P38: 53910330 | Q38: 180B4135 | R38: 53911120 | S38: 180B4150 | T38: 53910490 | U38: 180B4136 | V38: 53910710 | W38: 180B4148 | X38: 53910120
B39: Danfoss | C39: APP | D39: APP 5.1 | E39: 53007790 | F39: Danfoss HD pomp APP 5.1 180B3005 | H39: 180B3005 | I39: 180B4161 | J39: 53910240 | K39: 180B4160 | L39: 53911040 | M39: 180B4158 | N39: 53910840 | O39: 180B4154 | P39: 53910340 | Q39: 180B4129 | R39: 53911130 | S39: 180B4156 | T39: 53910500 | W39: 180B4162 | X39: 53910130
B40: Danfoss | C40: APP | D40: APP 6.5 | E40: 53007800 | F40: Danfoss HD pomp APP 6.5 180B3006 | H40: 180B3006 | I40: 180B4161 | J40: 53910240 | K40: 180B4160 | L40: 53911040 | M40: 180B4158 | N40: 53910840 | O40: 180B4154 | P40: 53910340 | Q40: 180B4130 | R40: 53911140 | S40: 180B4156 | T40: 53910500 | W40: 180B4162 | X40: 53910130
B41: Danfoss | C41: APP | D41: APP 7.2 | E41: 53007810 | F41: Danfoss HD pomp APP 7.2 180B3007 | H41: 180B3007 | I41: 180B4161 | J41: 53910240 | K41: 180B4160 | L41: 53911040 | M41: 180B4158 | N41: 53910840 | O41: 180B4154 | P41: 53910340 | Q41: 180B4131 | R41: 53911150 | S41: 180B4156 | T41: 53910500 | W41: 180B4162 | X41: 53910130
B42: Danfoss | C42: APP | D42: APP 8.2 | E42: 53007820 | F42: Danfoss HD pomp APP 8.2 180B3008 | H42: 180B3008 | I42: 180B4161 | J42: 53910240 | K42: 180B4160 | L42: 53911040 | M42: 180B4158 | N42: 53910840 | O42: 180B4154 | P42: 53910340 | Q42: 180B4132 | R42: 53911160 | S42: 180B4156 | T42: 53910500 | W42: 180B4162 | X42: 53910130
B43: Danfoss | C43: APP | D43: APP 10.2 | E43: 53007830 | F43: Danfoss HD pomp APP10.2 180B3010 | H43: 180B3010 | I43: 180B4161 | J43: 53910240 | K43: 180B4160 | L43: 53911040 | M43: 180B4159 | N43: 53910850 | O43: 180B4155 | P43: 53910350 | Q43: 180B4133 | R43: 53911170 | S43: 180B4157 | T43: 53910510 | W43: 180B4162 | X43: 53910130
B44: Danfoss | C44: APP | D44: APP13/1200 | E44: 53007860 | F44: Danfoss HD pomp APP13/1200 180B3214 | H44: 180B3214 | I44: 180B4229 | K44: 180B4228 | M44: 180B4204 | O44: 180B4221 | P44: 53910360 | Q44: 180B4216 | S44: 180B4201 | U44: 180B4227 | W44: 180B4230
B45: Danfoss | C45: APP | D45: APP13/1500 | E45: 53007870 | F45: Danfoss HD pomp APP13/1500 180B3213 | H45: 180B3213 | I45: 180B4229 | K45: 180B4228 | M45: 180B4204 | O45: 180B4221 | P45: 53910360 | Q45: 180B4223 | S45: 180B4201 | U45: 180B4227 | W45: 180B4230
B46: Danfoss | C46: APP | D46: APP19/1500 | E46: 53007900 | F46: Danfoss HD pomp APP19/1500 180B3252 | H46: 180B3252 | I46: 180B4206 | K46: 180B4205 | M46: 180B4204 | O46: 180B4221 | P46: 53910360 | Q46: 180B4217 | S46: 180B4201 | U46: 180B4203 | W46: 180B4222
A47: KF | B47: Pratissoli | C47: KF | D47: KF28 | E47: 53006900 | F47: Pratissoli hd-pomp KF28 +flens 93 l/m 210bar | I47: KIT 2015 | J47: 53905810 | K47: KIT 2014 | L47: 53905800 | M47: KIT 2012 | N47: 53905780 | O47: KIT 2013 | P47: 53905790 | Y47: KIT 2015 | Z47: 53905810 | AA47: KIT 2014 | AB47: 53905800 | AC47: KIT 2012 | AD47: 53905780 | AE47: KIT 2013 | AF47: 53905790
A48: KE | B48: Pratissoli | C48: KF | D48: KF30 | E48: 53006910 | F48: Pratissoli hd-pomp KF30 +flens 106 l/m 200bar | I48: KIT 2017 | J48: 53905830 | K48: KIT 2016 | L48: 53905802 | M48: KIT 2012 | N48: 53905780 | O48: KIT 2013 | P48: 53905790 | Y48: KIT 2017 | Z48: 53905830 | AA48: KIT 2016 | AB48: 53905802 | AC48: KIT 2012 | AD48: 53905780 | AE48: KIT 2013 | AF48: 53905790
A49: EV | B49: Pratissoli | C49: KF | D49: KF32 | E49: 53006920 | F49: Pratissoli hd-pomp KF32 +flens 1000rpm 120 ltr/min - 180 bar | I49: KIT 2222 | J49: 53905814 | K49: KIT 2066 | L49: 53905804 | M49: KIT 2012 | N49: 53905780 | O49: KIT 2013 | P49: 53905790 | Y49: KIT 2222 | Z49: 53905814 | AA49: KIT 2066 | AB49: 53905804 | AC49: KIT 2012 | AD49: 53905780 | AE49: KIT 2013 | AF49: 53905790
B50: Pratissoli | C50: KF | D50: KF36 | E50: 53006930 | F50: Pratissoli hd-pomp KF36 +flens 1000rpm 153 ltr/min - 130 bar | I50: KIT 2019 | J50: 53905816 | K50: KIT 2018 | L50: 53905806 | M50: KIT 2012 | N50: 53905780 | O50: KIT 2013 | P50: 53905790 | Y50: KIT 2019 | Z50: 53905816 | AA50: KIT 2018 | AB50: 53905806 | AC50: KIT 2012 | AD50: 53905780 | AE50: KIT 2013 | AF50: 53905790
B51: Pratissoli | C51: KF | D51: KF40 | E51: 53006940 | F51: Pratissoli hd-pomp KF40 +flens 900rpm 170 ltr/min - 110 bar | I51: KIT 2021 | J51: 53905818 | K51: KIT 2020 | L51: 53905807 | M51: KIT 2012 | N51: 53905780 | O51: KIT 2013 | P51: 53905790 | Y51: KIT 2021 | Z51: 53905818 | AA51: KIT 2020 | AB51: -- | AC51: KIT 2012 | AD51: 53905780 | AE51: KIT 2013 | AF51: 53905790
B52: Pratissoli | C52: KE | D52: KE20 | E52: 53007100 | F52: Pratissoli hd-pomp KE20 +flens 1450rpm 31 ltr/min - 300 bar | I52: KIT 2003 | J52: 53905630 | K52: KIT 2002 | L52: 53905620 | M52: KIT 2000 | N52: 53905600 | O52: KIT 2001 | P52: 53905610 | Y52: KIT 2003 | Z52: 53905630 | AA52: KIT 2002 | AB52: 53905620 | AC52: KIT 2000 | AD52: 53905600 | AE52: KIT 2001 | AF52: 53905610
B53: Pratissoli | C53: KE | D53: KE22 | E53: 53007110 | F53: Pratissoli hd-pomp KE22 +flens 1450rpm 38 ltr/min - 250 bar | I53: KIT 2005 | J53: 53905650 | K53: KIT 2004 | L53: 53905640 | M53: KIT 2000 | N53: 53905600 | O53: KIT 2001 | P53: 53905610 | Y53: KIT 2005 | Z53: 53905650 | AA53: KIT 2004 | AB53: 53905640 | AC53: KIT 2000 | AD53: 53905600 | AE53: KIT 2001 | AF53: 53905610
B54: Pratissoli | C54: KE | D54: KE24 | E54: 53007120 | F54: Pratissoli hd-pomp KE24 +flens 1450rpm 45 ltr/min - 210 bar | I54: KIT 2007 | J54: 53905670 | K54: KIT 2006 | L54: 53905660 | M54: KIT 2000 | N54: 53905600 | O54: KIT 2001 | P54: 53905610 | Y54: KIT 2007 | Z54: 53905670 | AA54: KIT 2006 | AB54: 53905660 | AC54: KIT 2000 | AD54: 53905600 | AE54: KIT 2001 | AF54: 53905610
B55: Pratissoli | C55: KE | D55: KE28H | E55: 53007130 | F55: Pratissoli hd-pomp KE28H+flens 1450rpm 61 ltr/min - 150 bar | I55: KIT 2009 | J55: 53905690 | K55: KIT 2008 | L55: 53905680 | M55: KIT 2030 | N55: 53905720 | O55: <-6 kleppen | P55: -- | Y55: KIT 2009 | Z55: 53905690 | AA55: KIT 2008 | AB55: 53905680 | AC55: KIT 2030 | AD55: 53905720 | AE55: <-6 kleppen | AF55: --
B56: Pratissoli | C56: KE | D56: KE30H | E56: 53007140 | F56: Pratissoli hd-pomp KE30H+flens 1450rpm 70 ltr/min - 130 bar | I56: KIT 2011 | J56: 53905710 | K56: KIT 2010 | L56: 53905700 | M56: KIT 2030 | N56: 53905720 | O56: <-6 kleppen | P56: -- | Y56: KIT 2011 | Z56: 53905710 | AA56: KIT 2010 | AB56: 53905700 | AC56: KIT 2030 | AD56: 53905720 | AE56: <-6 kleppen | AF56: --
B57: Pratissoli | C57: KE | D57: KE36H | E57: 53007150 | F57: Pratissoli hd-pomp KE36H+flens 1450rpm 100 ltr/min - 100 bar | I57: KIT 2134 | J57: 53905740 | K57: KIT 2133 | L57: 53905730 | M57: KIT 2030 | N57: 53905720 | O57: <-6 kleppen | P57: -- | Y57: KIT 2134 | Z57: 53905740 | AA57: KIT 2133 | AB57: 53905730 | AC57: KIT 2030 | AD57: 53905720 | AE57: <-6 kleppen | AF57: --
B58: Pratissoli | C58: EV | D58: EV20 | E58: 53007160 | F58: Pratissoli hd-pomp EV20 +flens 1450/1750rpm 48-58 l/m 250bar | I58: KIT 2476 | J58: 53905920 | K58: KIT 2470 | L58: 53905910 | M58: KIT 2468 | N58: 53905900 | O58: KIT 2001 | P58: 53905610 | Y58: KIT 2476 | Z58: 53905920 | AA58: KIT 2470 | AB58: 53905910 | AC58: KIT 2468 | AD58: 53905900 | AE58: KIT 2001 | AF58: 53905610
B59: Pratissoli | C59: EV | D59: EV22 | E59: 53007170 | F59: Pratissoli hd-pomp EV22 +flens 1450/1750rpm 58-70 l/m 180bar | I59: KIT 2477 | J59: 53905922 | K59: KIT 2471 | L59: 53905912 | M59: KIT 2468 | N59: 53905900 | O59: KIT 2001 | P59: 53905610 | Y59: KIT 2477 | Z59: 53905922 | AA59: KIT 2471 | AB59: 53905912 | AC59: KIT 2468 | AD59: 53905900 | AE59: KIT 2001 | AF59: 53905610
A60: NHDP | B60: Hawk | C60: NHDP | D60: NHDP0412R | E60: 53008040 | F60: Hawk hogedrukpomp NHDP0412R 1450rpm 4,0 ltr/min - 120 bar | H60: 1.904-627.0 | I60: 1.904-740.0 | J60: 53904812 | K60: 1.904-739.0 | L60: 53904854 | M60: 1.904-739.0 | O60: 1.905-617.0 | P60: 53904760 | Q60: 1.099-738.0 | R60: 53904782 | S60: 1.099-740.0 | T60: 53904620 | AG60: 1.904-740.0 | AH60: 53904812 | AI60: 1.904-739.0 | AJ60: 53904854 | AK60: 1.904-739.0 | AL60: 53904854 | AM60: 1.905-617.0 | AN60: 53904760 | AO60: 1.099-738.0 | AP60: 53904782 | AQ60: 1.099-740.0 | AR60: 53904620
A61: NMT | B61: Hawk | C61: NHDP | D61: NHDP8512R | E61: 53008060 | F61: Hawk hogedrukpomp NHDP8512R 1450rpm 8,5 ltr/min - 120 bar | H61: 1.904-623.0 | I61: 1.904-740.0 | J61: 53904812 | K61: 1.904-739.0 | L61: 53904854 | M61: 1.904-739.0 | O61: 1.905-617.0 | P61: 53904760 | Q61: 1.099-738.0 | R61: 53904782 | S61: 1.099-740.0 | T61: 53904620 | AG61: 1.904-740.0 | AH61: 53904812 | AI61: 1.904-739.0 | AJ61: 53904854 | AK61: 1.904-739.0 | AL61: 53904854 | AM61: 1.905-617.0 | AN61: 53904760 | AO61: 1.099-738.0 | AP61: 53904782 | AQ61: 1.099-740.0 | AR61: 53904620
A62: NLT | B62: Hawk | C62: NHDP | D62: NHDP1012R | E62: 53008070 | F62: Hawk hogedrukpomp NHDP1012R 1450rpm 10,0 ltr/min - 120 bar | H62: 1.904-621.0 | I62: 1.904-740.0 | J62: 53904812 | K62: 1.904-739.0 | L62: 53904854 | M62: 1.904-739.0 | O62: 1.905-617.0 | P62: 53904760 | Q62: 1.099-738.0 | R62: 53904782 | S62: 1.099-740.0 | T62: 53904620
A63: XLT | B63: Hawk | C63: NHDP | D63: NHDP1212R | E63: 53008090 | F63: Hawk hogedrukpomp NHDP1212R 1450rpm 11,0 ltr/min - 120 bar | H63: 1.904-617.0 | I63: 1.904-740.0 | J63: 53904812 | K63: 1.904-739.0 | L63: 53904854 | M63: 1.904-739.0 | O63: 1.905-617.0 | P63: 53904760 | Q63: 1.099-738.0 | R63: 53904782 | S63: 1.099-740.0 | T63: 53904620 | AG63: 1.904-740.0 | AH63: 53904812 | AI63: 1.904-739.0 | AJ63: 53904854 | AK63: 1.904-739.0 | AL63: 53904854 | AM63: 1.905-617.0 | AN63: 53904760 | AO63: 1.099-738.0 | AP63: 53904782 | AQ63: 1.099-740.0 | AR63: 53904620
A64: XXT | B64: Hawk | C64: NHDP | D64: NHDP1515R | E64: 53008200 | F64: Hawk hogedrukpomp NHDP1515R 1450rpm 15,0 ltr/min - 150 bar | H64: 1.905-778.0 | I64: 1.905-764.0 | J64: 53904814 | K64: 1.905-763.0 | L64: 53904856 | M64: 1.905-762.0 | N64: 53904910 | O64: 1.905-617.0 | P64: 53904760 | Q64: 1.099-738.0 | R64: 53904782 | S64: 1.099-740.0 | T64: 53904620 | AG64: 1.905-764.0 | AH64: 53904814 | AI64: 1.905-763.0 | AJ64: 53904856 | AK64: 1.905-762.0 | AL64: 53904910 | AM64: 1.905-617.0 | AN64: 53904760 | AO64: 1.099-738.0 | AP64: 53904782 | AQ64: 1.099-740.0 | AR64: 53904620
A65: HFR | B65: Hawk | C65: NMT | D65: NMT1220SR | E65: 53008460 | F65: Hawk hogedrukpomp NMT1220SR 1000rpm 12,5 ltr/min - 200 bar | H65: 1.099-045.0 | I65: 1.099-752.0 | J65: 53904820 | K65: 1.905-578.0 | L65: 53904860 | M65: 1.099-747.0 | N65: 53904916 | O65: 1.905-543.0 | P65: 53904764 | Q65: 1.099-749.0 | R65: 53904784 | S65: 1.099-751.0 | T65: 53904630 | AG65: 1.099-752.0 | AH65: 53904820 | AI65: 1.905-578.0 | AJ65: 53904860 | AK65: 1.099-747.0 | AL65: 53904916 | AM65: 1.905-543.0 | AN65: 53904764 | AO65: 1.099-749.0 | AP65: 53904784 | AQ65: 1.099-751.0 | AR65: 53904630
A66: MXT | B66: Hawk | C66: NMT | D66: NMT1520SR | E66: 53008470 | F66: Hawk hogedrukpomp NMT1520SR 1000rpm 15,0 ltr/min - 200 bar | H66: 1.099-047.0 | I66: 1.099-752.0 | J66: 53904820 | K66: 1.905-578.0 | L66: 53904860 | M66: 1.099-747.0 | N66: 53904916 | O66: 1.905-543.0 | P66: 53904764 | Q66: 1.099-749.0 | R66: 53904784 | S66: 1.099-751.0 | T66: 53904630 | AG66: 1.099-752.0 | AH66: 53904820 | AI66: 1.905-578.0 | AJ66: 53904860 | AK66: 1.099-747.0 | AL66: 53904916 | AM66: 1.905-543.0 | AN66: 53904764 | AO66: 1.099-749.0 | AP66: 53904784 | AQ66: 1.099-751.0 | AR66: 53904630
B67: Hawk | C67: NMT | D67: NMT1220R | E67: 53008480 | F67: Hawk hogedrukpomp NMT1220R 1450rpm 12,5 ltr/min - 200 bar | H67: 1.099-049.0 | I67: 1.099-752.0 | J67: 53904820 | K67: 1.905-578.0 | L67: 53904860 | M67: 1.099-747.0 | N67: 53904916 | O67: 1.905-543.0 | P67: 53904764 | Q67: 1.099-749.0 | R67: 53904784 | S67: 1.099-751.0 | T67: 53904630 | AG67: 1.099-752.0 | AH67: 53904820 | AI67: 1.905-578.0 | AJ67: 53904860 | AK67: 1.099-747.0 | AL67: 53904916 | AM67: 1.905-543.0 | AN67: 53904764 | AO67: 1.099-749.0 | AP67: 53904784 | AQ67: 1.099-751.0 | AR67: 53904630
B68: Hawk | C68: NMT | D68: NMT1520R | E68: 53008490 | F68: Hawk hogedrukpomp NMT1520R 1450rpm 15,0 ltr/min - 200 bar | H68: 1.099-052.0 | I68: 1.099-752.0 | J68: 53904820 | K68: 1.905-578.0 | L68: 53904860 | M68: 1.099-747.0 | N68: 53904916 | O68: 1.905-543.0 | P68: 53904764 | Q68: 1.099-749.0 | R68: 53904784 | S68: 1.099-751.0 | T68: 53904630 | AG68: 1.099-752.0 | AH68: 53904820 | AI68: 1.905-578.0 | AJ68: 53904860 | AK68: 1.099-747.0 | AL68: 53904916 | AM68: 1.905-543.0 | AN68: 53904764 | AO68: 1.099-749.0 | AP68: 53904784 | AQ68: 1.099-751.0 | AR68: 53904630
B69: Hawk | C69: NMT | D69: NMT1820R | E69: 53008500 | F69: Hawk hogedrukpomp NMT1820R 1450rpm 18,0 ltr/min - 200 bar | H69: 1.099-054.0 | I69: 1.099-752.0 | J69: 53904820 | K69: 1.905-578.0 | L69: 53904860 | M69: 1.099-747.0 | N69: 53904916 | O69: 1.905-543.0 | P69: 53904764 | Q69: 1.099-749.0 | R69: 53904784 | S69: 1.099-751.0 | T69: 53904630 | AG69: 1.099-752.0 | AH69: 53904820 | AI69: 1.905-578.0 | AJ69: 53904860 | AK69: 1.099-747.0 | AL69: 53904916 | AM69: 1.905-543.0 | AN69: 53904764 | AO69: 1.099-749.0 | AP69: 53904784 | AQ69: 1.099-751.0 | AR69: 53904630
B70: Hawk | C70: NMT | D70: NMT2120R | E70: 53008510 | F70: Hawk hogedrukpomp NMT2120R 1450rpm 21,0 ltr/min - 200 bar | H70: 1.099-057.0 | I70: 1.099-752.0 | J70: 53904820 | K70: 1.905-578.0 | L70: 53904860 | M70: 1.099-747.0 | N70: 53904916 | O70: 1.905-543.0 | P70: 53904764 | Q70: 1.099-749.0 | R70: 53904784 | S70: 1.099-751.0 | T70: 53904630 | AG70: 1.099-752.0 | AH70: 53904820 | AI70: 1.905-578.0 | AJ70: 53904860 | AK70: 1.099-747.0 | AL70: 53904916 | AM70: 1.905-543.0 | AN70: 53904764 | AO70: 1.099-749.0 | AP70: 53904784 | AQ70: 1.099-751.0 | AR70: 53904630
B71: Hawk | C71: NLT | D71: NLT2525IR | E71: 53008570 | F71: Hawk hogedrukpomp NLT2525IR 1450rpm 25,0 ltr/min - 250 bar | H71: 1.099-074.0 | I71: 1.099-768.0 | J71: 53904818 | K71: 1.905-671.0 | L71: 53904862 | M71: 1.099-760.0 | N71: 53904914 | O71: 1.905-669.0 | P71: 53904762 | Q71: 1.099-764.0 | R71: 53904786 | S71: 1.099-766.0 | T71: 53904600 | AG71: 1.099-768.0 | AH71: 53904818 | AI71: 1.905-671.0 | AJ71: 53904862 | AK71: 1.099-760.0 | AL71: 53904914 | AM71: 1.905-669.0 | AN71: 53904762 | AO71: 1.099-764.0 | AP71: 53904786 | AQ71: 1.099-766.0 | AR71: 53904600
B72: Hawk | C72: XLT | D72: XLT3020IS | E72: 53008590 | F72: Hawk hogedrukpomp XLT3020ISR 1000rpm 30 ltr/min - 200 bar | H72: 1.099-084.0 | I72: 1.099-783.0 | J72: 53904826 | K72: 1.905-853.0 | L72: 53904868 | M72: 1.099-770.0 | N72: 53904880 | O72: 1.905-686.0 | P72: 53904770 | Q72: 1.099-777.0 | R72: 53904792 | S72: 1.099-766.0 | T72: 53904600 | AG72: 1.099-783.0 | AH72: 53904826 | AI72: 1.905-853.0 | AJ72: 53904868 | AK72: 1.099-770.0 | AL72: 53904880 | AM72: 1.905-686.0 | AN72: 53904770 | AO72: 1.099-777.0 | AP72: 53904792 | AQ72: 1.099-766.0 | AR72: 53904600
B73: Hawk | C73: XLT | D73: XLT1830IR | E73: 53008620 | F73: Hawk hogedrukpomp XLT1830IR 1450rpm 18 ltr/min - 300 bar | H73: 1.099-088.0 | I73: 1.099-781.0 | J73: 53904822 | K73: 1.905-670.0 | L73: 53904864 | M73: 1.099-759.0 | N73: 53904920 | O73: 1.905-687.0 | P73: 53904772 | Q73: 1.099-763.0 | R73: 53904788 | S73: 1.099-766.0 | T73: 53904600 | AG73: 1.099-781.0 | AH73: 53904822 | AI73: 1.905-670.0 | AJ73: 53904864 | AK73: 1.099-759.0 | AL73: 53904920 | AM73: 1.905-687.0 | AN73: 53904772 | AO73: 1.099-763.0 | AP73: 53904788 | AQ73: 1.099-766.0 | AR73: 53904600
B74: Hawk | C74: XLT | D74: XLT2530IR | E74: 53008630 | F74: Hawk hogedrukpomp XLT2530IR 1450rpm 25 ltr/min - 300 bar | H74: 1.099-092.0 | I74: 1.099-781.0 | J74: 53904822 | K74: 1.905-670.0 | L74: 53904864 | M74: 1.099-759.0 | N74: 53904920 | O74: 1.905-687.0 | P74: 53904772 | Q74: 1.099-763.0 | R74: 53904788 | S74: 1.099-766.0 | T74: 53904600 | AG74: 1.099-781.0 | AH74: 53904822 | AI74: 1.905-670.0 | AJ74: 53904864 | AK74: 1.099-759.0 | AL74: 53904920 | AM74: 1.905-687.0 | AN74: 53904772 | AO74: 1.099-763.0 | AP74: 53904788 | AQ74: 1.099-766.0 | AR74: 53904600
B75: Hawk | C75: XLT | D75: XLT2730IR | E75: 53008640 | F75: Hawk hogedrukpomp XLT2730IR 1450rpm 27 ltr/min - 300 bar | H75: 1.099-094.0 | I75: 1.099-781.0 | J75: 53904822 | K75: 1.905-670.0 | L75: 53904864 | M75: 1.099-759.0 | N75: 53904920 | O75: 1.905-687.0 | P75: 53904772 | Q75: 1.099-763.0 | R75: 53904788 | S75: 1.099-766.0 | T75: 53904600 | AG75: 1.099-781.0 | AH75: 53904822 | AI75: 1.905-670.0 | AJ75: 53904864 | AK75: 1.099-759.0 | AL75: 53904920 | AM75: 1.905-687.0 | AN75: 53904772 | AO75: 1.099-763.0 | AP75: 53904788 | AQ75: 1.099-766.0 | AR75: 53904600
B76: Hawk | C76: XLT | D76: XLT3025IR | E76: 53008650 | F76: Hawk hogedrukpomp XLT3025IR 1450rpm 30 ltr/min - 250 bar | H76: 1.099-096.0 | I76: 1.099-782.0 | J76: 53904824 | K76: 1.905-852.0 | L76: 53904866 | M76: 1.099-769.0 | N76: 53904922 | O76: 1.905-687.0 | P76: 53904772 | Q76: 1.099-776.0 | R76: 53904790 | S76: 1.099-766.0 | T76: 53904600 | AG76: 1.099-782.0 | AH76: 53904824 | AI76: 1.905-852.0 | AJ76: 53904866 | AK76: 1.099-769.0 | AL76: 53904922 | AM76: 1.905-687.0 | AN76: 53904772 | AO76: 1.099-776.0 | AP76: 53904790 | AQ76: 1.099-766.0 | AR76: 53904600
B77: Hawk | C77: XLT | D77: XLT3325IR | E77: 53008660 | F77: Hawk hogedrukpomp XLT3325IR 1450rpm 33 ltr/min - 250 bar | H77: 1.099-098.0 | I77: 1.099-782.0 | J77: 53904824 | K77: 1.905-852.0 | L77: 53904866 | M77: 1.099-769.0 | N77: 53904922 | O77: 1.905-687.0 | P77: 53904772 | Q77: 1.099-776.0 | R77: 53904790 | S77: 1.099-766.0 | T77: 53904600 | AG77: 1.099-782.0 | AH77: 53904824 | AI77: 1.905-852.0 | AJ77: 53904866 | AK77: 1.099-769.0 | AL77: 53904922 | AM77: 1.905-687.0 | AN77: 53904772 | AO77: 1.099-776.0 | AP77: 53904790 | AQ77: 1.099-766.0 | AR77: 53904600
B78: Hawk | C78: XLT | D78: XLT3517IR | E78: 53008670 | F78: Hawk hogedrukpomp XLT3517IR 1450rpm 35 ltr/min - 170 bar | H78: 1.099-100.0 | I78: 1.099-783.0 | J78: 53904826 | K78: 1.905-853.0 | L78: 53904868 | M78: 1.099-770.0 | N78: 53904880 | O78: 1.905-686.0 | P78: 53904770 | Q78: 1.099-777.0 | R78: 53904792 | S78: 1.099-766.0 | T78: 53904600 | AG78: 1.099-783.0 | AH78: 53904826 | AI78: 1.905-853.0 | AJ78: 53904868 | AK78: 1.099-770.0 | AL78: 53904880 | AM78: 1.905-686.0 | AN78: 53904770 | AO78: 1.099-777.0 | AP78: 53904792 | AQ78: 1.099-766.0 | AR78: 53904600
... B90: Hawk | C90: HFR | D90: HFR80FR | E90: 53008950 | F90: Hawk hogedrukpomp HFR80FR 1450rpm 80 ltr/min - 280 bar | H90: 1.099-192.0 | I90: 1.099-818.0 | J90: 53904802 | K90: 1.905-702.0 | L90: 53904872 | M90: 1.099-807.0 | N90: 53904930 | O90: 1.905-704.0 | P90: 53904756 | Q90: 1.099-813.0 | R90: 53904796 | S90: 1.099-817.0 | T90: 53904610 | AG90: 1.099-818.0 | AH90: 53904802 | AI90: 1.905-702.0 | AJ90: 53904872 | AK90: 1.099-807.0 | AL90: 53904930 | AM90: 1.905-704.0 | AN90: 53904756 | AO90: 1.099-813.0 | AP90: 53904796 | AQ90: 1.099-817.0 | AR90: 53904610
B91: Hawk | C91: MXT | D91: MXT1015R | E91: 53009020 | F91: Hawk hogedrukpomp MXT1015R 1450rpm 100 ltr/min - 150 bar | H91: 1.099-168.0 | I91: 1.904-969.0 | J91: -- | K91: 1.904-968.0 | L91: 53904850 | M91: 1.099-801.0 | N91: 53904912 | O91: 1.099-804.0 | P91: 53904766 | Q91: 1.099-803.0 | R91: 53904800 | S91: 1.099-766.0 | T91: 53904600 | AG91: 1.904-969.0 | AH91: -- | AI91: 1.904-968.0 | AJ91: 53904850 | AK91: 1.099-801.0 | AL91: 53904912 | AM91: 1.099-804.0 | AN91: 53904766 | AO91: 1.099-803.0 | AP91: 53904800 | AQ91: 1.099-766.0 | AR91: 53904600
B92: Danfoss | C92: PAHT | D92: PAHT 2 | E92: 53020150 | F92: Danfoss PAHT2 1,50 kW IE3(W) 3,2l 100 bar 400V 50Hz 2p
B93: Danfoss | C93: PAHT | D93: PAHT 3.2 | E93: 53020240 | F93: Danfoss PAHT3,2 3,0 kW IE3(W) 7,0l 100bar 400V 50Hz 2p
B94: Danfoss | C94: PAHT | D94: PAHT 4 | E94: 53020264 | F94: Danfoss HD set PAHT4 3,0 kW 10,7l 2p max:110bar IE3
B95: Danfoss | C95: PAH | D95: PAH 6.3 | E95: 53020310 | F95: Danfoss HD set PAH6,3 3,0kW 8,1l 4p max:139bar IE3
B96: Danfoss | C96: PAHT | D96: PAHT 6.3 | E96: 53020360 | F96: Danfoss HD set PAHT6,3 5,5 kW 17,2l 2p max:110bar IE3
B97: Danfoss | C97: PAHT | D97: PAHT 10 | E97: 53020430 | F97: Danfoss HD set PAHT10 7,5 kW 21,6l 2p max:110bar IE3
B98: Danfoss | C98: PAHT | D98: PAHT 12.5 | E98: 53020504 | F98: Danfoss HD set PAHT12,5 7,5kW 26,4l 2p max:111bar IE3
B99: Danfoss | C99: PAHT | D99: PAHT 12.5 | E99: 53020530 | F99: Danfoss HD set PAHT12,5 11 kW 27,6l 2p max:110bar IE3
B100: Danfoss | C100: PAHT | D100: PAHT 25 | E100: 53020620 | F100: Danfoss HD set PAHT25 15 kW 53,1l 2p max:116bar IE3
B101: Danfoss | C101: PAHT | D101: PAHT 32 | E101: 53020860 | F101: Danfoss HD set PAHT32 22 kW 71,0l 2p max:130bar IE3
B102: Danfoss | C102: PAH | D102: PAH 2 | E102: 53021600 | F102: Danfoss HD set PAH2 0,55kW 1,8l 4p max: 85bar IE3
B103: Danfoss | C103: PAHT | D103: PAHT 3.2 | E103: 53021640 | F103: Danfoss PAHT3,2 0,75kW IE3(W) 2,7l 98bar 480V 60Hz 6p CSA
... B223: Danfoss | C223: PAHT | D223: PAHT 90 | E223: 53030100 | F223: Skid unit PAHT90 22,0kW ABB 120,0l max. 94 bar

Sheet Onderdelen
B1: Artikelnummer | C1: Omschrijving | D1: Omschrijving Engels | E1: Kolom1 | F1: Merk
B2: 53906040 | C2: Kleppenset Danfoss PAHT80-90 | D2: =_xlfn.TRANSLATE(C2,"nl","en") -> Valve set Danfoss PAHT80-90 | F2: danfoss
B3: 53908000 | C3: Danfoss PAH(T) 2-6.3 screw and seal kit | D3: =_xlfn.TRANSLATE(C3,"nl","en") -> Danfoss PAH(T) 2-6.3 screw and seal kit | F3: danfoss
B4: 53908020 | C4: Danfoss PAH 20-32 screw and seal kit | D4: =_xlfn.TRANSLATE(C4,"nl","en") -> Danfoss PAH 20-32 screw and seal kit | F4: danfoss
B5: 53908030 | C5: Danfoss PAH 50-100 screw and seal kit | D5: =_xlfn.TRANSLATE(C5,"nl","en") -> Danfoss PAH 50-100 screw and seal kit | F5: danfoss
B6: 53908050 | C6: Danfoss PAH(T) 2-6.3 valve plate kit | D6: =_xlfn.TRANSLATE(C6,"nl","en") -> Danfoss PAH(T) 2-6.3 valve plate kit | F6: danfoss
B7: 53908060 | C7: Danfoss PAH(T) 10-12.5 valve plate kit | D7: =_xlfn.TRANSLATE(C7,"nl","en") -> Danfoss PAH(T) 10-12.5 valve plate kit | F7: danfoss
B8: 53908070 | C8: Danfoss PAH 20-32 valve plate kit | D8: =_xlfn.TRANSLATE(C8,"nl","en") -> Danfoss PAH 20-32 valve plate kit | F8: danfoss
B9: 53908080 | C9: Danfoss PAH 50-100 valve plate kit | D9: =_xlfn.TRANSLATE(C9,"nl","en") -> Danfoss PAH 50-100 valve plate kit | F9: danfoss
B10: 53908100 | C10: Danfoss PAH 2 piston kit | D10: =_xlfn.TRANSLATE(C10,"nl","en") -> Danfoss PAH 2 piston kit | F10: danfoss
B11: 53908110 | C11: Danfoss PAH 4-6.3 piston kit | D11: =_xlfn.TRANSLATE(C11,"nl","en") -> Danfoss PAH 4-6.3 piston kit | F11: danfoss
B12: 53908120 | C12: Danfoss PAH 10-12.5 piston kit | D12: =_xlfn.TRANSLATE(C12,"nl","en") -> Danfoss PAH 10-12.5 piston kit | F12: danfoss
B13: 53908130 | C13: Danfoss PAH 20-32 piston kit | D13: =_xlfn.TRANSLATE(C13,"nl","en") -> Danfoss PAH 20-32 piston kit | F13: danfoss
B14: 53908140 | C14: Danfoss PAH 50-100 piston kit | D14: =_xlfn.TRANSLATE(C14,"nl","en") -> Danfoss PAH 50-100 piston kit | F14: danfoss
B15: 53908200 | C15: Danfoss PAH 2-6.3 cylinder barrel kit | D15: Danfoss PAH 2-6.3 cylinder barrel kit | F15: danfoss
B16: 53908210 | C16: Danfoss PAH 10-12.5 cylinder barrel kit | D16: Danfoss PAH 10-12.5 cylinder barrel kit | F16: danfoss
B17: 53908220 | C17: Danfoss PAH 20-32 cylinder barrel kit | D17: Danfoss PAH 20-32 cylinder barrel kit | F17: danfoss
B18: 53908230 | C18: Danfoss PAH 50-100 cylinder barrel kit | D18: Danfoss PAH 50-100 cylinder barrel kit | F18: danfoss
B19: 53908300 | C19: Danfoss PAH(T) 2-12.5 tool set shaft sealing | D19: =_xlfn.TRANSLATE(C19,"nl","en") -> Danfoss PAH(T) 2-12.5 tool set shaft sealing | F19: danfoss
B20: 53908310 | C20: Danfoss PAH(T) 20-32 tool set shaft sealing | D20: =_xlfn.TRANSLATE(C20,"nl","en") -> Danfoss PAH(T) 20-32 tool set shaft sealing | F20: danfoss
B21: 53908330 | C21: Danfoss PAH 50-100 tool set shaft sealing | D21: =_xlfn.TRANSLATE(C21,"nl","en") -> Danfoss PAH 50-100 tool set shaft sealing | F21: danfoss
B22: 53908460 | C22: Danfoss PAH 80 swashplate kit | D22: =_xlfn.TRANSLATE(C22,"nl","en") -> Danfoss PAH 80 swashplate kit | F22: danfoss
B23: 53909010 | C23: Danfoss PAH(T) 10-12.5 screw and seal kit | D23: =_xlfn.TRANSLATE(C23,"nl","en") -> Danfoss PAH(T) 10-12.5 screw and seal kit | F23: danfoss
B24: 53909020 | C24: Danfoss PAHT 20-32 screw and seal kit | D24: =_xlfn.TRANSLATE(C24,"nl","en") -> Danfoss PAHT 20-32 screw and seal kit | F24: danfoss
B25: 53909030 | C25: Danfoss PAHT 50-90 screw and seal kit | D25: =_xlfn.TRANSLATE(C25,"nl","en") -> Danfoss PAHT 50-90 screw and seal kit | F25: danfoss
B26: 53909070 | C26: Danfoss PAHT 20-32 valve plate kit | D26: =_xlfn.TRANSLATE(C26,"nl","en") -> Danfoss PAHT 20-32 valve plate kit | F26: danfoss
B27: 53909080 | C27: Danfoss PAHT 50-70 valve plate kit | D27: =_xlfn.TRANSLATE(C27,"nl","en") -> Danfoss PAHT 50-70 valve plate kit | F27: danfoss
B28: 53909100 | C28: Danfoss PAHT 2 piston kit | D28: =_xlfn.TRANSLATE(C28,"nl","en") -> Danfoss PAHT 2 piston kit | F28: danfoss
B29: 53909110 | C29: Danfoss PAHT 3.2-6.3 piston kit | D29: =_xlfn.TRANSLATE(C29,"nl","en") -> Danfoss PAHT 3.2-6.3 piston kit | F29: danfoss
B30: 53909120 | C30: Danfoss PAHT 10-12.5 piston kit | D30: =_xlfn.TRANSLATE(C30,"nl","en") -> Danfoss PAHT 10-12.5 piston kit | F30: danfoss
... B32: 53909140 | C32: Danfoss PAHT 50-90 piston kit | D32: =_xlfn.TRANSLATE(C32,"nl","en") -> Danfoss PAHT 50-90 piston kit | F32: danfoss
B33: 53909200 | C33: Danfoss PAHT 2-6.3 cylinder barrel kit | D33: Danfoss PAHT 2-6.3 cylinder barrel kit | F33: danfoss
B34: 53909210 | C34: Danfoss PAHT 10-12.5 cylinder barrel kit | D34: Danfoss PAHT 10-12.5 cylinder barrel kit | F34: danfoss
B35: 53909220 | C35: Danfoss PAHT 20-32 cylinder barrel kit | D35: Danfoss PAHT 20-32 cylinder barrel kit | F35: danfoss
B36: 53909230 | C36: Danfoss PAHT 50-90 cylinder barrel kit | D36: =_xlfn.TRANSLATE(C36,"nl","en") -> Danfoss PAHT 50-90 cylinder barrel kit | F36: danfoss
B37: 53909340 | C37: Danfoss PAHT 2 swashplate kit | D37: =_xlfn.TRANSLATE(C37,"nl","en") -> Danfoss PAHT 2 swashplate kit | F37: danfoss
B38: 53909350 | C38: Danfoss PAHT 3.2 swashplate kit | D38: =_xlfn.TRANSLATE(C38,"nl","en") -> Danfoss PAHT 3.2 swashplate kit | F38: danfoss
B39: 53909360 | C39: Danfoss PAHT 4 swashplate kit | D39: =_xlfn.TRANSLATE(C39,"nl","en") -> Danfoss PAHT 4 swashplate kit | F39: danfoss
B40: 53909370 | C40: Danfoss PAHT 6.3 swashplate kit | D40: =_xlfn.TRANSLATE(C40,"nl","en") -> Danfoss PAHT 6.3 swashplate kit | F40: danfoss
B41: 53909380 | C41: Danfoss PAHT 10 swashplate kit | D41: =_xlfn.TRANSLATE(C41,"nl","en") -> Danfoss PAHT 10 swashplate kit | F41: danfoss
B42: 53909390 | C42: Danfoss PAHT 12.5 swashplate kit | D42: =_xlfn.TRANSLATE(C42,"nl","en") -> Danfoss PAHT 12.5 swashplate kit | F42: danfoss
B43: 53909400 | C43: Danfoss PAHT 20 swashplate kit | D43: =_xlfn.TRANSLATE(C43,"nl","en") -> Danfoss PAHT 20 swashplate kit | F43: danfoss
B44: 53909410 | C44: Danfoss PAHT 25 swashplate kit | D44: =_xlfn.TRANSLATE(C44,"nl","en") -> Danfoss PAHT 25 swashplate kit | F44: danfoss
B45: 53909420 | C45: Danfoss PAHT 32 swashplate kit | D45: =_xlfn.TRANSLATE(C45,"nl","en") -> Danfoss PAHT 32 swashplate kit | F45: danfoss
B46: 53909430 | C46: Danfoss PAHT 50 swashplate kit | D46: =_xlfn.TRANSLATE(C46,"nl","en") -> Danfoss PAHT 50 swashplate kit | F46: danfoss
B47: 53909440 | C47: Danfoss PAHT 63 swashplate kit | D47: =_xlfn.TRANSLATE(C47,"nl","en") -> Danfoss PAHT 63 swashplate kit | F47: danfoss
... B175: 53904910 | C175: Hawk kit "V" seals Ø16 NHPD 150bar | D175: =_xlfn.TRANSLATE(C175,"nl","en") -> Hawk kit "V" seals Ø16 NHPD 150bar | F175: Hawk
